BEGIN:VCALENDAR
VERSION:2.0
PRODID:-//Integrative Medicine Council - ECPv6.15.20//NONSGML v1.0//EN
CALSCALE:GREGORIAN
METHOD:PUBLISH
X-ORIGINAL-URL:https://integrativemedicinecouncil.org
X-WR-CALDESC:Events for Integrative Medicine Council
REFRESH-INTERVAL;VALUE=DURATION:PT1H
X-Robots-Tag:noindex
X-PUBLISHED-TTL:PT1H
BEGIN:VTIMEZONE
TZID:America/Los_Angeles
BEGIN:DAYLIGHT
TZOFFSETFROM:-0800
TZOFFSETTO:-0700
TZNAME:PDT
DTSTART:20210314T100000
END:DAYLIGHT
BEGIN:STANDARD
TZOFFSETFROM:-0700
TZOFFSETTO:-0800
TZNAME:PST
DTSTART:20211107T090000
END:STANDARD
BEGIN:DAYLIGHT
TZOFFSETFROM:-0800
TZOFFSETTO:-0700
TZNAME:PDT
DTSTART:20220313T100000
END:DAYLIGHT
BEGIN:STANDARD
TZOFFSETFROM:-0700
TZOFFSETTO:-0800
TZNAME:PST
DTSTART:20221106T090000
END:STANDARD
BEGIN:DAYLIGHT
TZOFFSETFROM:-0800
TZOFFSETTO:-0700
TZNAME:PDT
DTSTART:20230312T100000
END:DAYLIGHT
BEGIN:STANDARD
TZOFFSETFROM:-0700
TZOFFSETTO:-0800
TZNAME:PST
DTSTART:20231105T090000
END:STANDARD
END:VTIMEZONE
BEGIN:VEVENT
DTSTART;TZID=America/Los_Angeles:20220813T130000
DTEND;TZID=America/Los_Angeles:20220813T140000
DTSTAMP:20260425T140104
CREATED:20220613T180348Z
LAST-MODIFIED:20220613T180946Z
UID:47473-1660395600-1660399200@integrativemedicinecouncil.org
SUMMARY:Sperb's Herbs – Xiao Chai Hu Tang (Minor Bupleurum Decoction)
DESCRIPTION:Click here to sign up for this webinar\nThis is an exciting episode of the Sperb’s Herbs podcast. This episode covers the Chinese formula Xiao Chai Hu Tang (Minor Bupleurum Decoction). Each episode of the podcast will go into great depth about a single herb or formula. Besides covering the basics of Chinese herbology including category\, and functions\, we will explore the history\, quality\, science\, pharmacology\, evidence\, and any potential interactions of each herb. And then there is always something a little quirky about an episode. Whether that is a unique story or an interesting perspective\, there will always be something different to learn about Xiao Chai Hu Tang (Minor Bupleurum Decoction).
URL:https://integrativemedicinecouncil.org/event/sperbs-herbs-xiao-chai-hu-tang-minor-bupleurum-decoction/
LOCATION:Online Webinar
CATEGORIES:Live Webinar
ATTACH;FMTTYPE=image/jpeg:https://integrativemedicinecouncil.org/wp-content/uploads/2022/06/Xiao-Chai-Hu-Tang-2-scaled-l1mWah.tmp_-e1655143776316.jpg
END:VEVENT
END:VCALENDAR