BEGIN:VCALENDAR
VERSION:2.0
PRODID:-//Integrative Medicine Council - ECPv6.15.20//NONSGML v1.0//EN
CALSCALE:GREGORIAN
METHOD:PUBLISH
X-ORIGINAL-URL:https://integrativemedicinecouncil.org
X-WR-CALDESC:Events for Integrative Medicine Council
REFRESH-INTERVAL;VALUE=DURATION:PT1H
X-Robots-Tag:noindex
X-PUBLISHED-TTL:PT1H
BEGIN:VTIMEZONE
TZID:America/Los_Angeles
BEGIN:DAYLIGHT
TZOFFSETFROM:-0800
TZOFFSETTO:-0700
TZNAME:PDT
DTSTART:20210314T100000
END:DAYLIGHT
BEGIN:STANDARD
TZOFFSETFROM:-0700
TZOFFSETTO:-0800
TZNAME:PST
DTSTART:20211107T090000
END:STANDARD
BEGIN:DAYLIGHT
TZOFFSETFROM:-0800
TZOFFSETTO:-0700
TZNAME:PDT
DTSTART:20220313T100000
END:DAYLIGHT
BEGIN:STANDARD
TZOFFSETFROM:-0700
TZOFFSETTO:-0800
TZNAME:PST
DTSTART:20221106T090000
END:STANDARD
BEGIN:DAYLIGHT
TZOFFSETFROM:-0800
TZOFFSETTO:-0700
TZNAME:PDT
DTSTART:20230312T100000
END:DAYLIGHT
BEGIN:STANDARD
TZOFFSETFROM:-0700
TZOFFSETTO:-0800
TZNAME:PST
DTSTART:20231105T090000
END:STANDARD
END:VTIMEZONE
BEGIN:VEVENT
DTSTART;TZID=America/Los_Angeles:20220828T130000
DTEND;TZID=America/Los_Angeles:20220828T150000
DTSTAMP:20260425T140110
CREATED:20220613T180354Z
LAST-MODIFIED:20220613T191813Z
UID:47478-1661691600-1661698800@integrativemedicinecouncil.org
SUMMARY:Chinese Medicine and the Opioid Epidemic
DESCRIPTION:Click here to sign up for this webinar\nThe opioid epidemic is a crisis we haven’t seen before. The marketing of the pharmaceutical industry combined with overuse by medical doctors and patient abuse have resulted in rampant addictions\, overdoses\, and deaths. Chinese medicine can help play a role at many levels in helping this public health failure. This course will examine the epidemic\, look at the drugs involved\, addictions in general and specific to the epidemic. Most importantly\, this course will discuss how to treat this epidemic in our clinics including discussing the interactions between acupuncture and opioid receptors\, and helpful approaches\, herbs\, and acupuncture points.
URL:https://integrativemedicinecouncil.org/event/chinese-medicine-and-the-opioid-epidemic-2/
LOCATION:Online Webinar
CATEGORIES:Live Webinar
ATTACH;FMTTYPE=image/jpeg:https://integrativemedicinecouncil.org/wp-content/uploads/2019/06/Opium-Jar.jpg
END:VEVENT
END:VCALENDAR