BEGIN:VCALENDAR
VERSION:2.0
PRODID:-//Integrative Medicine Council - ECPv6.15.20//NONSGML v1.0//EN
CALSCALE:GREGORIAN
METHOD:PUBLISH
X-WR-CALNAME:Integrative Medicine Council
X-ORIGINAL-URL:https://integrativemedicinecouncil.org
X-WR-CALDESC:Events for Integrative Medicine Council
REFRESH-INTERVAL;VALUE=DURATION:PT1H
X-Robots-Tag:noindex
X-PUBLISHED-TTL:PT1H
BEGIN:VTIMEZONE
TZID:America/Los_Angeles
BEGIN:DAYLIGHT
TZOFFSETFROM:-0800
TZOFFSETTO:-0700
TZNAME:PDT
DTSTART:20240310T100000
END:DAYLIGHT
BEGIN:STANDARD
TZOFFSETFROM:-0700
TZOFFSETTO:-0800
TZNAME:PST
DTSTART:20241103T090000
END:STANDARD
BEGIN:DAYLIGHT
TZOFFSETFROM:-0800
TZOFFSETTO:-0700
TZNAME:PDT
DTSTART:20250309T100000
END:DAYLIGHT
BEGIN:STANDARD
TZOFFSETFROM:-0700
TZOFFSETTO:-0800
TZNAME:PST
DTSTART:20251102T090000
END:STANDARD
BEGIN:DAYLIGHT
TZOFFSETFROM:-0800
TZOFFSETTO:-0700
TZNAME:PDT
DTSTART:20260308T100000
END:DAYLIGHT
BEGIN:STANDARD
TZOFFSETFROM:-0700
TZOFFSETTO:-0800
TZNAME:PST
DTSTART:20261101T090000
END:STANDARD
END:VTIMEZONE
BEGIN:VEVENT
DTSTART;TZID=America/Los_Angeles:20250511T130000
DTEND;TZID=America/Los_Angeles:20250511T150000
DTSTAMP:20260423T015308
CREATED:20250102T191236Z
LAST-MODIFIED:20250102T200021Z
UID:68433-1746968400-1746975600@integrativemedicinecouncil.org
SUMMARY:Maca Root (Lepidium meyenii) and Bai Zhi (Angelica Root)
DESCRIPTION:Click here to sign up for this webinar We are going to be recording two episodes of the Sperb’s Herbs podcast. The first covers another herb of the world\, Maca Root (Lepidium meyenii)\, another interesting herb with purported libido\, fertility\, and possibly menopausal benefits. The second episode covers the Chinese herb Bai Zhi (Angelica Root) from warm\, acrid herbs that release the exterior category. Each episode of the podcast will go into great depth about a single herb or formula. Besides covering the basics of herbology including category\, and functions\, we will explore the history\, quality\, science\, pharmacology\, evidence\, and any potential interactions of each herb. And then there is always something a little quirky about an episode. Whether that is a unique story or an interesting perspective\, there will always be something different to learn about these herbs and formula!
URL:https://integrativemedicinecouncil.org/event/maca-root-lepidium-meyenii-and-bai-zhi-angelica-root/
LOCATION:Online Webinar
CATEGORIES:Live Webinar
ATTACH;FMTTYPE=image/jpeg:https://integrativemedicinecouncil.org/wp-content/uploads/2025/01/Maca-Root-scaled-72LYZN.tmp_.jpg
END:VEVENT
END:VCALENDAR