BEGIN:VCALENDAR
VERSION:2.0
PRODID:-//Integrative Medicine Council - ECPv6.15.20//NONSGML v1.0//EN
CALSCALE:GREGORIAN
METHOD:PUBLISH
X-ORIGINAL-URL:https://integrativemedicinecouncil.org
X-WR-CALDESC:Events for Integrative Medicine Council
REFRESH-INTERVAL;VALUE=DURATION:PT1H
X-Robots-Tag:noindex
X-PUBLISHED-TTL:PT1H
BEGIN:VTIMEZONE
TZID:America/Los_Angeles
BEGIN:DAYLIGHT
TZOFFSETFROM:-0800
TZOFFSETTO:-0700
TZNAME:PDT
DTSTART:20240310T100000
END:DAYLIGHT
BEGIN:STANDARD
TZOFFSETFROM:-0700
TZOFFSETTO:-0800
TZNAME:PST
DTSTART:20241103T090000
END:STANDARD
BEGIN:DAYLIGHT
TZOFFSETFROM:-0800
TZOFFSETTO:-0700
TZNAME:PDT
DTSTART:20250309T100000
END:DAYLIGHT
BEGIN:STANDARD
TZOFFSETFROM:-0700
TZOFFSETTO:-0800
TZNAME:PST
DTSTART:20251102T090000
END:STANDARD
BEGIN:DAYLIGHT
TZOFFSETFROM:-0800
TZOFFSETTO:-0700
TZNAME:PDT
DTSTART:20260308T100000
END:DAYLIGHT
BEGIN:STANDARD
TZOFFSETFROM:-0700
TZOFFSETTO:-0800
TZNAME:PST
DTSTART:20261101T090000
END:STANDARD
END:VTIMEZONE
BEGIN:VEVENT
DTSTART;TZID=America/Los_Angeles:20250518T130000
DTEND;TZID=America/Los_Angeles:20250518T160000
DTSTAMP:20260423T015349
CREATED:20250102T191237Z
LAST-MODIFIED:20250102T200129Z
UID:68435-1747573200-1747584000@integrativemedicinecouncil.org
SUMMARY:Interpreting Bloodwork for Acupuncturists
DESCRIPTION:Click here to sign up for this webinar As acupuncturists and herbalists\, our patients often get their blood analyzed. There is a lot of useful information in those results! They can help us determine what is going on with our patients\, how they are progressing\, and how we may need to change our treatments. This course will go into the basics of interpreting blood results\, emphasizing common test panels like the CBC\, lipid panel\, and common tests including vitamin and mineral assays. And the overarching question we will attempt to answer is how can looking at bloodwork help us do acupuncture and prescribe herbs more effectively. We will give a brief overview of important tests\, followed by a group interpretation of actual results. Please join us for this important and interesting course.
URL:https://integrativemedicinecouncil.org/event/interpreting-bloodwork-for-acupuncturists/
LOCATION:Online Webinar
CATEGORIES:Live Webinar
ATTACH;FMTTYPE=image/jpeg:https://integrativemedicinecouncil.org/wp-content/uploads/2025/01/coronavirus-blood-samples-assortment-lab-scaled-JwpU4r.tmp_.jpg
END:VEVENT
END:VCALENDAR