BEGIN:VCALENDAR
VERSION:2.0
PRODID:-//Integrative Medicine Council - ECPv6.15.20//NONSGML v1.0//EN
CALSCALE:GREGORIAN
METHOD:PUBLISH
X-ORIGINAL-URL:https://integrativemedicinecouncil.org
X-WR-CALDESC:Events for Integrative Medicine Council
REFRESH-INTERVAL;VALUE=DURATION:PT1H
X-Robots-Tag:noindex
X-PUBLISHED-TTL:PT1H
BEGIN:VTIMEZONE
TZID:America/Los_Angeles
BEGIN:DAYLIGHT
TZOFFSETFROM:-0800
TZOFFSETTO:-0700
TZNAME:PDT
DTSTART:20240310T100000
END:DAYLIGHT
BEGIN:STANDARD
TZOFFSETFROM:-0700
TZOFFSETTO:-0800
TZNAME:PST
DTSTART:20241103T090000
END:STANDARD
BEGIN:DAYLIGHT
TZOFFSETFROM:-0800
TZOFFSETTO:-0700
TZNAME:PDT
DTSTART:20250309T100000
END:DAYLIGHT
BEGIN:STANDARD
TZOFFSETFROM:-0700
TZOFFSETTO:-0800
TZNAME:PST
DTSTART:20251102T090000
END:STANDARD
BEGIN:DAYLIGHT
TZOFFSETFROM:-0800
TZOFFSETTO:-0700
TZNAME:PDT
DTSTART:20260308T100000
END:DAYLIGHT
BEGIN:STANDARD
TZOFFSETFROM:-0700
TZOFFSETTO:-0800
TZNAME:PST
DTSTART:20261101T090000
END:STANDARD
END:VTIMEZONE
BEGIN:VEVENT
DTSTART;TZID=America/Los_Angeles:20250525T130000
DTEND;TZID=America/Los_Angeles:20250525T150000
DTSTAMP:20260423T015404
CREATED:20250102T191239Z
LAST-MODIFIED:20250102T200212Z
UID:68437-1748178000-1748185200@integrativemedicinecouncil.org
SUMMARY:Glandular Extracts and Chinese Medicine
DESCRIPTION:Click here to sign up for this webinar This is the 19th course (however\, don’t worry\, you can take them in any order) in a series called Integrative Nutrition and will cover biomedical and integrative science of nutrition and explore the complementary and alternative concepts that are part of the modern supplement industry. This series will be one live class per month covering a category of nutrition and will include some basic biochemistry\, nutrition\, and supplements available on the market. In other words\, it is going to be the perfect combination of biochemical nutrition\, supplements\, Chinese medicine\, and real-world use cases\, If you are a practitioner of any stripe or just interested in nutrition\, this is the series for you\,\nThis class will examine glandular extracts and the physiological biochemistry supporting their use. We will examine them from a modern nutritional and chemical perspective while always having an eye on how they may explain some of the actions of Chinese medical herbs and vice versa. And we will be looking at the science of those supplements\, trying to answer the question: do they work? There will be a lot of information and it will be immediately useful for treating our patients.
URL:https://integrativemedicinecouncil.org/event/glandular-extracts-and-chinese-medicine/
LOCATION:Online Webinar
CATEGORIES:Live Webinar
ATTACH;FMTTYPE=image/jpeg:https://integrativemedicinecouncil.org/wp-content/uploads/2024/12/separating-funnel-164_1280.jpg
END:VEVENT
END:VCALENDAR