BEGIN:VCALENDAR
VERSION:2.0
PRODID:-//Integrative Medicine Council - ECPv6.15.20//NONSGML v1.0//EN
CALSCALE:GREGORIAN
METHOD:PUBLISH
X-ORIGINAL-URL:https://integrativemedicinecouncil.org
X-WR-CALDESC:Events for Integrative Medicine Council
REFRESH-INTERVAL;VALUE=DURATION:PT1H
X-Robots-Tag:noindex
X-PUBLISHED-TTL:PT1H
BEGIN:VTIMEZONE
TZID:America/Los_Angeles
BEGIN:DAYLIGHT
TZOFFSETFROM:-0800
TZOFFSETTO:-0700
TZNAME:PDT
DTSTART:20250309T100000
END:DAYLIGHT
BEGIN:STANDARD
TZOFFSETFROM:-0700
TZOFFSETTO:-0800
TZNAME:PST
DTSTART:20251102T090000
END:STANDARD
BEGIN:DAYLIGHT
TZOFFSETFROM:-0800
TZOFFSETTO:-0700
TZNAME:PDT
DTSTART:20260308T100000
END:DAYLIGHT
BEGIN:STANDARD
TZOFFSETFROM:-0700
TZOFFSETTO:-0800
TZNAME:PST
DTSTART:20261101T090000
END:STANDARD
BEGIN:DAYLIGHT
TZOFFSETFROM:-0800
TZOFFSETTO:-0700
TZNAME:PDT
DTSTART:20270314T100000
END:DAYLIGHT
BEGIN:STANDARD
TZOFFSETFROM:-0700
TZOFFSETTO:-0800
TZNAME:PST
DTSTART:20271107T090000
END:STANDARD
END:VTIMEZONE
BEGIN:VEVENT
DTSTART;TZID=America/Los_Angeles:20260816T130000
DTEND;TZID=America/Los_Angeles:20260816T160000
DTSTAMP:20260422T155746
CREATED:20260111T170745Z
LAST-MODIFIED:20260111T180254Z
UID:78669-1786885200-1786896000@integrativemedicinecouncil.org
SUMMARY:Treating Diabetes with Chinese Medicine
DESCRIPTION:Click here to sign up for this webinar \nAccording to the America Diabetes Association\, “In 2021\, 38.4 million Americans\, or 11.6% of the population\, had diabetes.” And about one quarter of those are undiagnosed. As Chinese medical practitioners\, we often see these patients in our clinics. This course will look at diabetes\, both type 1 and 2\, from both a biomedical and Chinese medical point of view. We will discuss real world approaches to diagnosing and treating\, or even if we should treat\, these conditions as well as educating our patients about them. Please join us as this is a vital course for any modern practice.
URL:https://integrativemedicinecouncil.org/event/treating-diabetes-with-chinese-medicine-2/
LOCATION:Online Webinar
CATEGORIES:Live Webinar
ATTACH;FMTTYPE=image/jpeg:https://integrativemedicinecouncil.org/wp-content/uploads/2025/01/side-view-diabetic-woman-checking-her-glucose-level-scaled-j3bzPt.tmp_.jpg
END:VEVENT
END:VCALENDAR