BEGIN:VCALENDAR
VERSION:2.0
PRODID:-//Integrative Medicine Council - ECPv6.15.20//NONSGML v1.0//EN
CALSCALE:GREGORIAN
METHOD:PUBLISH
X-ORIGINAL-URL:https://integrativemedicinecouncil.org
X-WR-CALDESC:Events for Integrative Medicine Council
REFRESH-INTERVAL;VALUE=DURATION:PT1H
X-Robots-Tag:noindex
X-PUBLISHED-TTL:PT1H
BEGIN:VTIMEZONE
TZID:America/Los_Angeles
BEGIN:DAYLIGHT
TZOFFSETFROM:-0800
TZOFFSETTO:-0700
TZNAME:PDT
DTSTART:20250309T100000
END:DAYLIGHT
BEGIN:STANDARD
TZOFFSETFROM:-0700
TZOFFSETTO:-0800
TZNAME:PST
DTSTART:20251102T090000
END:STANDARD
BEGIN:DAYLIGHT
TZOFFSETFROM:-0800
TZOFFSETTO:-0700
TZNAME:PDT
DTSTART:20260308T100000
END:DAYLIGHT
BEGIN:STANDARD
TZOFFSETFROM:-0700
TZOFFSETTO:-0800
TZNAME:PST
DTSTART:20261101T090000
END:STANDARD
BEGIN:DAYLIGHT
TZOFFSETFROM:-0800
TZOFFSETTO:-0700
TZNAME:PDT
DTSTART:20270314T100000
END:DAYLIGHT
BEGIN:STANDARD
TZOFFSETFROM:-0700
TZOFFSETTO:-0800
TZNAME:PST
DTSTART:20271107T090000
END:STANDARD
END:VTIMEZONE
BEGIN:VEVENT
DTSTART;TZID=America/Los_Angeles:20260830T130000
DTEND;TZID=America/Los_Angeles:20260830T150000
DTSTAMP:20260422T155320
CREATED:20260111T170758Z
LAST-MODIFIED:20260111T180629Z
UID:78672-1788094800-1788102000@integrativemedicinecouncil.org
SUMMARY:Treating Carpal Tunnel Syndrome with Chinese Medicine
DESCRIPTION:Click here to sign up for this webinar \nAccording to the National Institute of Health*\, “Carpal tunnel syndrome (CTS) is the most prevalent focal mononeuropathy\, constituting 90% of all neuropathy cases.” Acupuncture can be very useful in treating this condition and is among the least intrusive treatments. This course will look at carpal tunnel syndrome\, from both a biomedical and Chinese medical point of view. We will discuss real world approaches to diagnosing and treating this fairly common condition. And we will examine its misdiagnosis which happens frequently. Please join us as this is a vital course for any modern practice.\n*Sevy\, J. O.\, Sina\, R. E.\, & Varacallo\, M. A. (2023). Carpal Tunnel Syndrome. https://www.ncbi.nlm.nih.gov/books/NBK448179/
URL:https://integrativemedicinecouncil.org/event/treating-carpal-tunnel-syndrome-with-chinese-medicine-2/
LOCATION:Online Webinar
CATEGORIES:Live Webinar
ATTACH;FMTTYPE=image/jpeg:https://integrativemedicinecouncil.org/wp-content/uploads/2025/12/1024px-Carpal_Tunnel_Syndrome.jpg
END:VEVENT
END:VCALENDAR