BEGIN:VCALENDAR
VERSION:2.0
PRODID:-//Integrative Medicine Council - ECPv6.15.20//NONSGML v1.0//EN
CALSCALE:GREGORIAN
METHOD:PUBLISH
X-WR-CALNAME:Integrative Medicine Council
X-ORIGINAL-URL:https://integrativemedicinecouncil.org
X-WR-CALDESC:Events for Integrative Medicine Council
REFRESH-INTERVAL;VALUE=DURATION:PT1H
X-Robots-Tag:noindex
X-PUBLISHED-TTL:PT1H
BEGIN:VTIMEZONE
TZID:America/Los_Angeles
BEGIN:DAYLIGHT
TZOFFSETFROM:-0800
TZOFFSETTO:-0700
TZNAME:PDT
DTSTART:20250309T100000
END:DAYLIGHT
BEGIN:STANDARD
TZOFFSETFROM:-0700
TZOFFSETTO:-0800
TZNAME:PST
DTSTART:20251102T090000
END:STANDARD
BEGIN:DAYLIGHT
TZOFFSETFROM:-0800
TZOFFSETTO:-0700
TZNAME:PDT
DTSTART:20260308T100000
END:DAYLIGHT
BEGIN:STANDARD
TZOFFSETFROM:-0700
TZOFFSETTO:-0800
TZNAME:PST
DTSTART:20261101T090000
END:STANDARD
BEGIN:DAYLIGHT
TZOFFSETFROM:-0800
TZOFFSETTO:-0700
TZNAME:PDT
DTSTART:20270314T100000
END:DAYLIGHT
BEGIN:STANDARD
TZOFFSETFROM:-0700
TZOFFSETTO:-0800
TZNAME:PST
DTSTART:20271107T090000
END:STANDARD
END:VTIMEZONE
BEGIN:VEVENT
DTSTART;TZID=America/Los_Angeles:20260906T130000
DTEND;TZID=America/Los_Angeles:20260906T140000
DTSTAMP:20260422T155242
CREATED:20260111T170800Z
LAST-MODIFIED:20260111T201623Z
UID:78674-1788699600-1788703200@integrativemedicinecouncil.org
SUMMARY:Should you accept insurance?
DESCRIPTION:Click here to sign up for this webinar \nWhether you are new to practice or have been in practice for quite a while\, there is usually one question that pops up: should I accept insurance? It seems like more and more insurance plans are now paying for acupuncture. But\, do they pay fairly? Is it worth the time\, effort\, and change\, if you have them\, to current procedures? In other words\, what are the pros and cons to accepting insurance? This course is a quick\, hopefully objective\, overview of these pros and cons. And ultimately\, it should give you some idea how to answer the “should I accept insurance?” question for yourself…\nThis course is part of an ongoing series of classes in our Mastering Business for Acupuncturists series which looks at business\, practice\, and marketing with an emphasis on helping acupuncturists become as successful as possible. When one of is more successful\, we are all more successful and our profession benefits…
URL:https://integrativemedicinecouncil.org/event/should-you-accept-insurance-2/
LOCATION:Online Webinar
CATEGORIES:Live Webinar
ATTACH;FMTTYPE=image/jpeg:https://integrativemedicinecouncil.org/wp-content/uploads/2026/01/marek-studzinski-LSCuDR0kcYo-unsplash-scaled-Q9WrpT.jpg
END:VEVENT
BEGIN:VEVENT
DTSTART;TZID=America/Los_Angeles:20260906T140000
DTEND;TZID=America/Los_Angeles:20260906T160000
DTSTAMP:20260422T155242
CREATED:20260111T170801Z
LAST-MODIFIED:20260111T201725Z
UID:78675-1788703200-1788710400@integrativemedicinecouncil.org
SUMMARY:Playing the Game: Accepting Insurance as an Acupuncturist
DESCRIPTION:Click here to sign up for this webinar \nAccepting and billing insurance can be like a game. This course explains the playing field and rules of this game. We will discuss what an acupuncturist needs to do before seeing insurance patients\, during the patient visit\, and after the patient leaves. In other words\, it will examine all the stages\, equipment\, and\, most importantly\, systems necessary to successfully accept insurance and increase income\, all while minimizing the risks. This is a must take course for anyone who wants to promote our medicine to more patients while increasing revenues.\nThis course is based on the book Playing the Game\, A Step-by-step Approach to Accepting Insurance as an Acupuncturist by Dr. Greg Sperber (the course teacher) and Tiffany Andersen-Hefner. It includes many necessary forms for accepting insurance and creating time saving and effective systems.\nThis course is also part of an ongoing series of classes in our Mastering Business for Acupuncturists series which looks at business\, practice\, and marketing with an emphasis on helping acupuncturists become as successful as possible. When one of is more successful\, we are all more successful and our profession benefits…
URL:https://integrativemedicinecouncil.org/event/playing-the-game-accepting-insurance-as-an-acupuncturist-2/
LOCATION:Online Webinar
CATEGORIES:Live Webinar
ATTACH;FMTTYPE=image/jpeg:https://integrativemedicinecouncil.org/wp-content/uploads/2025/12/Playing-the-Game.jpg
END:VEVENT
END:VCALENDAR