BEGIN:VCALENDAR
VERSION:2.0
PRODID:-//Integrative Medicine Council - ECPv6.15.20//NONSGML v1.0//EN
CALSCALE:GREGORIAN
METHOD:PUBLISH
X-ORIGINAL-URL:https://integrativemedicinecouncil.org
X-WR-CALDESC:Events for Integrative Medicine Council
REFRESH-INTERVAL;VALUE=DURATION:PT1H
X-Robots-Tag:noindex
X-PUBLISHED-TTL:PT1H
BEGIN:VTIMEZONE
TZID:America/Los_Angeles
BEGIN:DAYLIGHT
TZOFFSETFROM:-0800
TZOFFSETTO:-0700
TZNAME:PDT
DTSTART:20250309T100000
END:DAYLIGHT
BEGIN:STANDARD
TZOFFSETFROM:-0700
TZOFFSETTO:-0800
TZNAME:PST
DTSTART:20251102T090000
END:STANDARD
BEGIN:DAYLIGHT
TZOFFSETFROM:-0800
TZOFFSETTO:-0700
TZNAME:PDT
DTSTART:20260308T100000
END:DAYLIGHT
BEGIN:STANDARD
TZOFFSETFROM:-0700
TZOFFSETTO:-0800
TZNAME:PST
DTSTART:20261101T090000
END:STANDARD
BEGIN:DAYLIGHT
TZOFFSETFROM:-0800
TZOFFSETTO:-0700
TZNAME:PDT
DTSTART:20270314T100000
END:DAYLIGHT
BEGIN:STANDARD
TZOFFSETFROM:-0700
TZOFFSETTO:-0800
TZNAME:PST
DTSTART:20271107T090000
END:STANDARD
END:VTIMEZONE
BEGIN:VEVENT
DTSTART;TZID=America/Los_Angeles:20260920T130000
DTEND;TZID=America/Los_Angeles:20260920T160000
DTSTAMP:20260422T172418
CREATED:20260111T170814Z
LAST-MODIFIED:20260111T202036Z
UID:78679-1789909200-1789920000@integrativemedicinecouncil.org
SUMMARY:Nine Drugs and Ten Herbs to Worry About
DESCRIPTION:Click here to sign up for this webinar \nWe may not be able to predict all drug-herb interactions\, but we can determine potentials for interactions This seminar examines how to approach these potential drug-herb interactions. A discussion of basic pharmacology\, including the ADME scheme (absorption\, distribution\, metabolism\, and elimination) and the therapeutic index\, form the foundation of this understanding. The participant will leave with real skills to assess potential interactions and the ability to determine which are important\, which aren’t\, and which may be in the future. Both the nine drugs and ten herbs most prone to drug-herb interactions will be discussed. These drugs and herbs are based on an evidence based approach. and discusses the practical application of the ADME scheme and therapeutic index.
URL:https://integrativemedicinecouncil.org/event/nine-drugs-and-ten-herbs-to-worry-about-4/
LOCATION:Online Webinar
CATEGORIES:Live Webinar
ATTACH;FMTTYPE=image/jpeg:https://integrativemedicinecouncil.org/wp-content/uploads/2019/06/red_and_pink_pills.jpg
END:VEVENT
END:VCALENDAR