BEGIN:VCALENDAR
VERSION:2.0
PRODID:-//Integrative Medicine Council - ECPv6.15.20//NONSGML v1.0//EN
CALSCALE:GREGORIAN
METHOD:PUBLISH
X-WR-CALNAME:Integrative Medicine Council
X-ORIGINAL-URL:https://integrativemedicinecouncil.org
X-WR-CALDESC:Events for Integrative Medicine Council
REFRESH-INTERVAL;VALUE=DURATION:PT1H
X-Robots-Tag:noindex
X-PUBLISHED-TTL:PT1H
BEGIN:VTIMEZONE
TZID:America/Los_Angeles
BEGIN:DAYLIGHT
TZOFFSETFROM:-0800
TZOFFSETTO:-0700
TZNAME:PDT
DTSTART:20250309T100000
END:DAYLIGHT
BEGIN:STANDARD
TZOFFSETFROM:-0700
TZOFFSETTO:-0800
TZNAME:PST
DTSTART:20251102T090000
END:STANDARD
BEGIN:DAYLIGHT
TZOFFSETFROM:-0800
TZOFFSETTO:-0700
TZNAME:PDT
DTSTART:20260308T100000
END:DAYLIGHT
BEGIN:STANDARD
TZOFFSETFROM:-0700
TZOFFSETTO:-0800
TZNAME:PST
DTSTART:20261101T090000
END:STANDARD
BEGIN:DAYLIGHT
TZOFFSETFROM:-0800
TZOFFSETTO:-0700
TZNAME:PDT
DTSTART:20270314T100000
END:DAYLIGHT
BEGIN:STANDARD
TZOFFSETFROM:-0700
TZOFFSETTO:-0800
TZNAME:PST
DTSTART:20271107T090000
END:STANDARD
END:VTIMEZONE
BEGIN:VEVENT
DTSTART;TZID=America/Los_Angeles:20261101T130000
DTEND;TZID=America/Los_Angeles:20261101T160000
DTSTAMP:20260422T185030
CREATED:20260111T170843Z
LAST-MODIFIED:20260111T203414Z
UID:78689-1793538000-1793548800@integrativemedicinecouncil.org
SUMMARY:Marketing Your Practice: Strategic Position & Target Market
DESCRIPTION:Click here to sign up for this webinar \nWhen I taught practice management in schools\, I always used to say this is the most important class in the school (which few students actually believed until they were out in the real world). And if that was the most important course in the program\, the classes on marketing were the most important classes in the course AND the program. The most important aspect of a successful practice is getting patients in the door. This and our next course will take a close look at marketing. In this first course on marketing\, we will discuss our strategic position\, in other words\, what makes it different\, our target market\, risks of various approaches\, and other more theoretical aspects of marketing. We will make important decisions and lay the foundation for successful practice marketing. Don’t miss this crucial webinar for practice success.\nThis course is part of an ongoing series of classes in our Mastering Business for Acupuncturists series which looks at business\, practice\, and marketing with an emphasis on helping acupuncturists become as successful as possible. When one of is more successful\, we are all more successful and our profession benefits…
URL:https://integrativemedicinecouncil.org/event/marketing-your-practice-strategic-position-target-market/
LOCATION:Online Webinar
CATEGORIES:Live Webinar
ATTACH;FMTTYPE=image/png:https://integrativemedicinecouncil.org/wp-content/uploads/2026/01/target-4694357_1280.png
END:VEVENT
END:VCALENDAR