BEGIN:VCALENDAR
VERSION:2.0
PRODID:-//Integrative Medicine Council - ECPv6.15.20//NONSGML v1.0//EN
CALSCALE:GREGORIAN
METHOD:PUBLISH
X-ORIGINAL-URL:https://integrativemedicinecouncil.org
X-WR-CALDESC:Events for Integrative Medicine Council
REFRESH-INTERVAL;VALUE=DURATION:PT1H
X-Robots-Tag:noindex
X-PUBLISHED-TTL:PT1H
BEGIN:VTIMEZONE
TZID:America/Los_Angeles
BEGIN:DAYLIGHT
TZOFFSETFROM:-0800
TZOFFSETTO:-0700
TZNAME:PDT
DTSTART:20240310T100000
END:DAYLIGHT
BEGIN:STANDARD
TZOFFSETFROM:-0700
TZOFFSETTO:-0800
TZNAME:PST
DTSTART:20241103T090000
END:STANDARD
BEGIN:DAYLIGHT
TZOFFSETFROM:-0800
TZOFFSETTO:-0700
TZNAME:PDT
DTSTART:20250309T100000
END:DAYLIGHT
BEGIN:STANDARD
TZOFFSETFROM:-0700
TZOFFSETTO:-0800
TZNAME:PST
DTSTART:20251102T090000
END:STANDARD
BEGIN:DAYLIGHT
TZOFFSETFROM:-0800
TZOFFSETTO:-0700
TZNAME:PDT
DTSTART:20260308T100000
END:DAYLIGHT
BEGIN:STANDARD
TZOFFSETFROM:-0700
TZOFFSETTO:-0800
TZNAME:PST
DTSTART:20261101T090000
END:STANDARD
END:VTIMEZONE
BEGIN:VEVENT
DTSTART;TZID=America/Los_Angeles:20250706T130000
DTEND;TZID=America/Los_Angeles:20250706T150000
DTSTAMP:20260423T003537
CREATED:20250102T191253Z
LAST-MODIFIED:20250103T192251Z
UID:68443-1751806800-1751814000@integrativemedicinecouncil.org
SUMMARY:Treating Alzheimer’s and other Dementias with Chinese Medicine
DESCRIPTION:Click here to sign up for this webinar 5.5 million Americans have Alzheimer’s disease. Currently\, considered the 6th most common cause of death in the United States\, but according to the National Institute of Health\, it should be ranked third (https://www.nia.nih.gov/health/alzheimers-disease-fact-sheet). While the most common form of dementia\, there are lots of different types other than Alzheimer’s. This course will examine these dementias from both biomedical and Chinese points of view\, and discuss Chinese medical diagnostics and therapeutics. Often biomedical treatment involves pharmaceuticals with adverse drug reactions. Chinese medicine can help treat and support patients with dementia. Participants will leave with a real-world approach to treating these conditions.
URL:https://integrativemedicinecouncil.org/event/treating-alzheimers-and-other-dementias-with-chinese-medicine-2/
LOCATION:Online Webinar
CATEGORIES:Live Webinar
ATTACH;FMTTYPE=image/jpeg:https://integrativemedicinecouncil.org/wp-content/uploads/2024/12/Alzheimers-Dementia.jpg
END:VEVENT
BEGIN:VEVENT
DTSTART;TZID=America/Los_Angeles:20250713T130000
DTEND;TZID=America/Los_Angeles:20250713T150000
DTSTAMP:20260423T003537
CREATED:20250102T191255Z
LAST-MODIFIED:20250103T192411Z
UID:68444-1752411600-1752418800@integrativemedicinecouncil.org
SUMMARY:Stevia (Stevia rebaudiana) and Ju Hua (Chrysanthemum Flower)
DESCRIPTION:Click here to sign up for this webinar We are going to be recording two episodes of the Sperb’s Herbs podcast. The first covers another herb of the world\, Stevia (Stevia rebaudiana)\, known for its sweetness\, but are there other medicinal properties? The second episode covers the Chinese herb Ju Hua (Chrysanthemum Flower) from cool\, acrid herbs that release the exterior category. Each episode of the podcast will go into great depth about a single herb or formula. Besides covering the basics of herbology including category\, and functions\, we will explore the history\, quality\, science\, pharmacology\, evidence\, and any potential interactions of each herb. And then there is always something a little quirky about an episode. Whether that is a unique story or an interesting perspective\, there will always be something different to learn about these herbs and formula!
URL:https://integrativemedicinecouncil.org/event/stevia-stevia-rebaudiana-and-ju-hua-chrysanthemum-flower/
LOCATION:Online Webinar
CATEGORIES:Live Webinar
ATTACH;FMTTYPE=image/jpeg:https://integrativemedicinecouncil.org/wp-content/uploads/2025/01/Stevia-scaled-1D8X5t.tmp_.jpg
END:VEVENT
BEGIN:VEVENT
DTSTART;TZID=America/Los_Angeles:20250720T130000
DTEND;TZID=America/Los_Angeles:20250720T160000
DTSTAMP:20260423T003537
CREATED:20250102T191256Z
LAST-MODIFIED:20250103T192451Z
UID:68446-1753016400-1753027200@integrativemedicinecouncil.org
SUMMARY:Treating Colds and Flus with Chinese Medicine
DESCRIPTION:Click here to sign up for this webinar Every year we go through the cold and flu season\, not to mention seasonal colds and the random annoying viral infection. They can cause temporary misery\, but also seriously affect our most vulnerable populations. Chinese medicine can offer a lot to treating and supporting patients suffering these conditions without adverse effects. This course will look at the pathophysiology and signs and symptoms of cold and flu conditions from both a biomedical and Chinese medical point of view. We will discuss real world approaches to treating them as well as a discussion of the major modalities of our medicine including acupuncture\, cupping\, and herbal interventions. Whether you are an expert or a beginner at treating viral cold and flu conditions\, there will be lots to learn (or relearn) from this course.
URL:https://integrativemedicinecouncil.org/event/treating-colds-and-flus-with-chinese-medicine/
LOCATION:Online Webinar
CATEGORIES:Live Webinar
ATTACH;FMTTYPE=image/png:https://integrativemedicinecouncil.org/wp-content/uploads/2024/12/1024px-A_lady_suffering_from_the_Common_Cold.png
END:VEVENT
BEGIN:VEVENT
DTSTART;TZID=America/Los_Angeles:20250727T130000
DTEND;TZID=America/Los_Angeles:20250727T160000
DTSTAMP:20260423T003537
CREATED:20250102T191306Z
LAST-MODIFIED:20250103T192540Z
UID:68447-1753621200-1753632000@integrativemedicinecouncil.org
SUMMARY:Miscellaneous Drugs and Chinese Medicine
DESCRIPTION:Click here to sign up for this webinar An eclectic group of drugs await us as we explore miscellaneous drugs and how they interact with Chinese medicine. We will look at erectile dysfunction\, osteoporosis\, immunosuppressive\, obesity\, and acne drugs\, skeletal muscle relaxants\, and aids for smoking cessation. Join us as we look at the uses\, mechanisms of action\, cautions\, and potential interactions of these agents.
URL:https://integrativemedicinecouncil.org/event/miscellaneous-drugs-and-chinese-medicine/
LOCATION:Online Webinar
CATEGORIES:Live Webinar
ATTACH;FMTTYPE=image/jpeg:https://integrativemedicinecouncil.org/wp-content/uploads/2024/12/Miscellaneous-Drugs-medicines-1-1491354.jpg
END:VEVENT
END:VCALENDAR