BEGIN:VCALENDAR
VERSION:2.0
PRODID:-//Integrative Medicine Council - ECPv6.15.20//NONSGML v1.0//EN
CALSCALE:GREGORIAN
METHOD:PUBLISH
X-ORIGINAL-URL:https://integrativemedicinecouncil.org
X-WR-CALDESC:Events for Integrative Medicine Council
REFRESH-INTERVAL;VALUE=DURATION:PT1H
X-Robots-Tag:noindex
X-PUBLISHED-TTL:PT1H
BEGIN:VTIMEZONE
TZID:America/Los_Angeles
BEGIN:DAYLIGHT
TZOFFSETFROM:-0800
TZOFFSETTO:-0700
TZNAME:PDT
DTSTART:20240310T100000
END:DAYLIGHT
BEGIN:STANDARD
TZOFFSETFROM:-0700
TZOFFSETTO:-0800
TZNAME:PST
DTSTART:20241103T090000
END:STANDARD
BEGIN:DAYLIGHT
TZOFFSETFROM:-0800
TZOFFSETTO:-0700
TZNAME:PDT
DTSTART:20250309T100000
END:DAYLIGHT
BEGIN:STANDARD
TZOFFSETFROM:-0700
TZOFFSETTO:-0800
TZNAME:PST
DTSTART:20251102T090000
END:STANDARD
BEGIN:DAYLIGHT
TZOFFSETFROM:-0800
TZOFFSETTO:-0700
TZNAME:PDT
DTSTART:20260308T100000
END:DAYLIGHT
BEGIN:STANDARD
TZOFFSETFROM:-0700
TZOFFSETTO:-0800
TZNAME:PST
DTSTART:20261101T090000
END:STANDARD
END:VTIMEZONE
BEGIN:VEVENT
DTSTART;TZID=America/Los_Angeles:20250803T130000
DTEND;TZID=America/Los_Angeles:20250803T150000
DTSTAMP:20260422T230919
CREATED:20250102T191307Z
LAST-MODIFIED:20250103T192626Z
UID:68448-1754226000-1754233200@integrativemedicinecouncil.org
SUMMARY:Chinese Herbal First Aid Kit
DESCRIPTION:Click here to sign up for this webinar We should be empowering our patients to help themselves. What better way to do that than give them info for having Chinese herbal formulas in their medicine cabinet to help with minor medical conditions. In this course\, we will look at relatively easy to find prepared herbal medicines everyone should have in their medical cabinet. We will discuss the conditions they treat\, how to use them\, and any cautions. Conditions covered include\, but are not limited to\, colds\, bleeding\, burns\, digestive complaints\, headaches\, and sinusitis.
URL:https://integrativemedicinecouncil.org/event/chinese-herbal-first-aid-kit-3/
LOCATION:Online Webinar
CATEGORIES:Live Webinar
ATTACH;FMTTYPE=image/jpeg:https://integrativemedicinecouncil.org/wp-content/uploads/2024/12/first-aid_640.jpg
END:VEVENT
BEGIN:VEVENT
DTSTART;TZID=America/Los_Angeles:20250810T130000
DTEND;TZID=America/Los_Angeles:20250810T150000
DTSTAMP:20260422T230919
CREATED:20250102T191308Z
LAST-MODIFIED:20250103T192743Z
UID:68449-1754830800-1754838000@integrativemedicinecouncil.org
SUMMARY:Xiao Qing Long Tang (Minor Bluegreen Dragon Decoction) and Xin Yi (Magnolia Flower)
DESCRIPTION:Click here to sign up for this webinar We are going to be recording two episodes of the Sperb’s Herbs podcast. The first covers another Chinese formula\, Xiao Qing Long Tang (Minor Bluegreen Dragon Decoction)\, a formula that releases exterior wind-cold. The second episode covers the Chinese herb Xin Yi (Magnolia Flower) from the warm\, acrid herbs that release the exterior category. Each episode of the podcast will go into great depth about a single herb or formula. Besides covering the basics of herbology including category\, and functions\, we will explore the history\, quality\, science\, pharmacology\, evidence\, and any potential interactions of each herb. And then there is always something a little quirky about an episode. Whether that is a unique story or an interesting perspective\, there will always be something different to learn about these herbs and formula!
URL:https://integrativemedicinecouncil.org/event/xiao-qing-long-tang-minor-bluegreen-dragon-decoction-and-xin-yi-magnolia-flower/
LOCATION:Online Webinar
CATEGORIES:Live Webinar
ATTACH;FMTTYPE=image/jpeg:https://integrativemedicinecouncil.org/wp-content/uploads/2025/01/Xiao-Qing-Long-Tang-scaled-PYxn7w.tmp_.jpg
END:VEVENT
BEGIN:VEVENT
DTSTART;TZID=America/Los_Angeles:20250817T130000
DTEND;TZID=America/Los_Angeles:20250817T160000
DTSTAMP:20260422T230919
CREATED:20250102T191311Z
LAST-MODIFIED:20250103T192840Z
UID:68451-1755435600-1755446400@integrativemedicinecouncil.org
SUMMARY:Treating Neck and Back Pain with Chinese Medicine
DESCRIPTION:Click here to sign up for this webinar By far the most common conditions most acupuncturists treat are neck and back pain. And most acupuncturists do a really good job at it. This course takes an integrative approach to treating these conditions and will expand our diagnostic and treatment acumen. It will look at how to ask questions to solicit diagnostic details\, conduct a thorough acupuncture-centric exam\, develop appropriate and effective treatment protocols\, and properly document all of it. No matter if you are new to treating these conditions or an expert at it\, you will learn something new and interesting.
URL:https://integrativemedicinecouncil.org/event/treating-neck-and-back-pain-with-chinese-medicine-6/
LOCATION:Online Webinar
CATEGORIES:Live Webinar
ATTACH;FMTTYPE=image/jpeg:https://integrativemedicinecouncil.org/wp-content/uploads/2025/01/close-up-man-rubbing-his-painful-back-isolated-white-background-scaled-qBd85g.tmp_.jpg
END:VEVENT
BEGIN:VEVENT
DTSTART;TZID=America/Los_Angeles:20250824T130000
DTEND;TZID=America/Los_Angeles:20250824T150000
DTSTAMP:20260422T230919
CREATED:20250102T191313Z
LAST-MODIFIED:20250103T192920Z
UID:68453-1756040400-1756047600@integrativemedicinecouncil.org
SUMMARY:Drugs of Abuse and Chinese Medicine
DESCRIPTION:Click here to sign up for this webinar Many drugs have addictive qualities. And illicit drugs can still be described with much of the same language and parameters as pharmaceutical agents. As Chinese medical practitioners\, we see our patients taking and potentially abusing opioids\, benzodiazepines\, anorexiants\, and cannabis as well as other drugs of abuse. We will look at the nature of addiction as well as categories of illicit drugs\, while diving into the details.
URL:https://integrativemedicinecouncil.org/event/drugs-of-abuse-and-chinese-medicine/
LOCATION:Online Webinar
CATEGORIES:Live Webinar
ATTACH;FMTTYPE=image/jpeg:https://integrativemedicinecouncil.org/wp-content/uploads/2025/01/vecteezy_cocaine-in-paper-and-equipment-on-color-background_3551736-scaled-fTW5Pd.tmp_.jpg
END:VEVENT
BEGIN:VEVENT
DTSTART;TZID=America/Los_Angeles:20250831T130000
DTEND;TZID=America/Los_Angeles:20250831T150000
DTSTAMP:20260422T230919
CREATED:20250102T191331Z
LAST-MODIFIED:20250609T220825Z
UID:68455-1756645200-1756652400@integrativemedicinecouncil.org
SUMMARY:GLP-1 Agonists and Chinese Medicine
DESCRIPTION:Click here to sign up for this webinar \nGlucagon-like peptide-1 (GLP-1) receptor agonists\, such as Ozempic\, Wegovy\, Mounjaro\, and others\, are really popular right now. Like really popular. And several experts say they will fundamentally change our society in our eating habits and in secondary uses such as aiding addictions and sex. This course will look at the science and pharmacology of these drugs as well as how they may work from a Chinses medical view. We will also explore herbs\, Chinese and otherwise\, and supplements that may help support users of GLP-1 agonists or have similar effects and can be used instead of these pharmaceuticals. And\, as usual in our courses\, we will determine the risks of drug-herb interactions. This is a must take course for any modern Chinese medical practitioner and/or herbalist!
URL:https://integrativemedicinecouncil.org/event/glp-1-agonists-and-chinese-medicine-8-31-25/
LOCATION:Online Webinar
CATEGORIES:Live Webinar
ATTACH;FMTTYPE=image/jpeg:https://integrativemedicinecouncil.org/wp-content/uploads/2025/05/haberdoedas-hN0ZuDvoMo4-unsplash-scaled.jpg
END:VEVENT
END:VCALENDAR