BEGIN:VCALENDAR
VERSION:2.0
PRODID:-//Integrative Medicine Council - ECPv6.15.20//NONSGML v1.0//EN
CALSCALE:GREGORIAN
METHOD:PUBLISH
X-ORIGINAL-URL:https://integrativemedicinecouncil.org
X-WR-CALDESC:Events for Integrative Medicine Council
REFRESH-INTERVAL;VALUE=DURATION:PT1H
X-Robots-Tag:noindex
X-PUBLISHED-TTL:PT1H
BEGIN:VTIMEZONE
TZID:America/Los_Angeles
BEGIN:DAYLIGHT
TZOFFSETFROM:-0800
TZOFFSETTO:-0700
TZNAME:PDT
DTSTART:20240310T100000
END:DAYLIGHT
BEGIN:STANDARD
TZOFFSETFROM:-0700
TZOFFSETTO:-0800
TZNAME:PST
DTSTART:20241103T090000
END:STANDARD
BEGIN:DAYLIGHT
TZOFFSETFROM:-0800
TZOFFSETTO:-0700
TZNAME:PDT
DTSTART:20250309T100000
END:DAYLIGHT
BEGIN:STANDARD
TZOFFSETFROM:-0700
TZOFFSETTO:-0800
TZNAME:PST
DTSTART:20251102T090000
END:STANDARD
BEGIN:DAYLIGHT
TZOFFSETFROM:-0800
TZOFFSETTO:-0700
TZNAME:PDT
DTSTART:20260308T100000
END:DAYLIGHT
BEGIN:STANDARD
TZOFFSETFROM:-0700
TZOFFSETTO:-0800
TZNAME:PST
DTSTART:20261101T090000
END:STANDARD
END:VTIMEZONE
BEGIN:VEVENT
DTSTART;TZID=America/Los_Angeles:20251207T130000
DTEND;TZID=America/Los_Angeles:20251207T150000
DTSTAMP:20260422T172457
CREATED:20250102T191357Z
LAST-MODIFIED:20250103T194145Z
UID:68471-1765112400-1765119600@integrativemedicinecouncil.org
SUMMARY:Nourish the Yin Formulas and E Bu Shi Cao (Small Centipeda Herb)
DESCRIPTION:Click here to sign up for this webinar We are going to be recording two episodes of the Sperb’s Herbs podcast. The first covers another class of Chinese formulas\, the nourish the yin formulas\, used for a variety of reasons and often for women’s issues including menstrual and menopausal. The second episode covers the Chinese herb E Bu Shi Cao (Small Centipeda Herb) from the warm\, acrid herbs that release the exterior category. Each episode of the podcast will go into great depth about a single herb or formula. Besides covering the basics of herbology including category\, and functions\, we will explore the history\, quality\, science\, pharmacology\, evidence\, and any potential interactions of each herb. And then there is always something a little quirky about an episode. Whether that is a unique story or an interesting perspective\, there will always be something different to learn about these herbs and formula!
URL:https://integrativemedicinecouncil.org/event/nourish-the-yin-formulas-and-e-bu-shi-cao-small-centipeda-herb/
LOCATION:Online Webinar
CATEGORIES:Live Webinar
ATTACH;FMTTYPE=image/png:https://integrativemedicinecouncil.org/wp-content/uploads/2024/12/yin-yang-7942593_1280.png
END:VEVENT
BEGIN:VEVENT
DTSTART;TZID=America/Los_Angeles:20251214T130000
DTEND;TZID=America/Los_Angeles:20251214T150000
DTSTAMP:20260422T172457
CREATED:20250102T191358Z
LAST-MODIFIED:20250103T194243Z
UID:68472-1765717200-1765724400@integrativemedicinecouncil.org
SUMMARY:Chinese Herbal First Aid Kit
DESCRIPTION:Click here to sign up for this webinar We should be empowering our patients to help themselves. What better way to do that than give them info for having Chinese herbal formulas in their medicine cabinet to help with minor medical conditions. In this course\, we will look at relatively easy to find prepared herbal medicines everyone should have in their medical cabinet. We will discuss the conditions they treat\, how to use them\, and any cautions. Conditions covered include\, but are not limited to\, colds\, bleeding\, burns\, digestive complaints\, headaches\, and sinusitis.
URL:https://integrativemedicinecouncil.org/event/chinese-herbal-first-aid-kit-4/
LOCATION:Online Webinar
CATEGORIES:Live Webinar
ATTACH;FMTTYPE=image/jpeg:https://integrativemedicinecouncil.org/wp-content/uploads/2024/12/first-aid_640.jpg
END:VEVENT
END:VCALENDAR