BEGIN:VCALENDAR
VERSION:2.0
PRODID:-//Integrative Medicine Council - ECPv6.15.20//NONSGML v1.0//EN
CALSCALE:GREGORIAN
METHOD:PUBLISH
X-WR-CALNAME:Integrative Medicine Council
X-ORIGINAL-URL:https://integrativemedicinecouncil.org
X-WR-CALDESC:Events for Integrative Medicine Council
REFRESH-INTERVAL;VALUE=DURATION:PT1H
X-Robots-Tag:noindex
X-PUBLISHED-TTL:PT1H
BEGIN:VTIMEZONE
TZID:America/Los_Angeles
BEGIN:DAYLIGHT
TZOFFSETFROM:-0800
TZOFFSETTO:-0700
TZNAME:PDT
DTSTART:20250309T100000
END:DAYLIGHT
BEGIN:STANDARD
TZOFFSETFROM:-0700
TZOFFSETTO:-0800
TZNAME:PST
DTSTART:20251102T090000
END:STANDARD
BEGIN:DAYLIGHT
TZOFFSETFROM:-0800
TZOFFSETTO:-0700
TZNAME:PDT
DTSTART:20260308T100000
END:DAYLIGHT
BEGIN:STANDARD
TZOFFSETFROM:-0700
TZOFFSETTO:-0800
TZNAME:PST
DTSTART:20261101T090000
END:STANDARD
BEGIN:DAYLIGHT
TZOFFSETFROM:-0800
TZOFFSETTO:-0700
TZNAME:PDT
DTSTART:20270314T100000
END:DAYLIGHT
BEGIN:STANDARD
TZOFFSETFROM:-0700
TZOFFSETTO:-0800
TZNAME:PST
DTSTART:20271107T090000
END:STANDARD
END:VTIMEZONE
BEGIN:VEVENT
DTSTART;TZID=America/Los_Angeles:20260118T130000
DTEND;TZID=America/Los_Angeles:20260118T170000
DTSTAMP:20260422T155746
CREATED:20260111T170547Z
LAST-MODIFIED:20260111T172949Z
UID:78615-1768741200-1768755600@integrativemedicinecouncil.org
SUMMARY:Electronic Health Records for Chinese Medical Practitioners
DESCRIPTION:Click here to sign up for this webinar \nElectronic health records (EHRs)\, also known as electronic medical records (EMRs) are necessary for a modern practice. And they can save time\, money\, and energy\, as well as actually increase income\, if done correctly! This course will discuss all aspects of using this type of software/app including what to look for in deciding which system to get\, looking at both personal/professional preferences and legalities\, how to safely implement them\, and how to use them appropriately including dos and don’ts. And we will discuss artificial intelligence (AI) and how it may affect EHR programs. This course is a must take for anyone striving for a modern practice!
URL:https://integrativemedicinecouncil.org/event/electronic-health-records-for-chinese-medical-practitioners/
LOCATION:Online Webinar
CATEGORIES:Live Webinar
ATTACH;FMTTYPE=image/jpeg:https://integrativemedicinecouncil.org/wp-content/uploads/2026/01/vecteezy_doctors-work-with-medical-treatment-icons-on-virtual-screen_11091579-scaled-mtvk4U.jpg
END:VEVENT
BEGIN:VEVENT
DTSTART;TZID=America/Los_Angeles:20260125T130000
DTEND;TZID=America/Los_Angeles:20260125T150000
DTSTAMP:20260422T155746
CREATED:20260111T170549Z
LAST-MODIFIED:20260111T172657Z
UID:78617-1769346000-1769353200@integrativemedicinecouncil.org
SUMMARY:Enzyme Supplements and Chinese Medicine
DESCRIPTION:Click here to sign up for this webinar This is the 18th course (however\, don’t worry\, you can take them in any order) in a series called Integrative Nutrition and will cover biomedical and integrative science of nutrition and explore the complementary and alternative concepts that are part of the modern supplement industry. This series will be one live class per month covering a category of nutrition and will include some basic biochemistry\, nutrition\, and supplements available on the market. In other words\, it is going to be the perfect combination of biochemical nutrition\, supplements\, Chinese medicine\, and real-world use cases\, If you are a practitioner of any stripe or just interested in nutrition\, this is the series for you\,\nThis class will examine enzyme supplements and the physiological biochemistry supporting their use. We will examine them from a modern nutritional and chemical perspective while always having an eye on how they may explain some of the actions of Chinese medical herbs and vice versa. And we will be looking at the science of those supplements\, trying to answer the question: do they work? There will be a lot of information and it will be immediately useful for treating our patients.
URL:https://integrativemedicinecouncil.org/event/enzyme-supplements-and-chinese-medicine-2/
LOCATION:Online Webinar
CATEGORIES:Live Webinar
ATTACH;FMTTYPE=image/jpeg:https://integrativemedicinecouncil.org/wp-content/uploads/2024/12/Triosephosphate_isomerase.jpg
END:VEVENT
END:VCALENDAR