BEGIN:VCALENDAR
VERSION:2.0
PRODID:-//Integrative Medicine Council - ECPv6.15.20//NONSGML v1.0//EN
CALSCALE:GREGORIAN
METHOD:PUBLISH
X-ORIGINAL-URL:https://integrativemedicinecouncil.org
X-WR-CALDESC:Events for Integrative Medicine Council
REFRESH-INTERVAL;VALUE=DURATION:PT1H
X-Robots-Tag:noindex
X-PUBLISHED-TTL:PT1H
BEGIN:VTIMEZONE
TZID:America/Los_Angeles
BEGIN:DAYLIGHT
TZOFFSETFROM:-0800
TZOFFSETTO:-0700
TZNAME:PDT
DTSTART:20250309T100000
END:DAYLIGHT
BEGIN:STANDARD
TZOFFSETFROM:-0700
TZOFFSETTO:-0800
TZNAME:PST
DTSTART:20251102T090000
END:STANDARD
BEGIN:DAYLIGHT
TZOFFSETFROM:-0800
TZOFFSETTO:-0700
TZNAME:PDT
DTSTART:20260308T100000
END:DAYLIGHT
BEGIN:STANDARD
TZOFFSETFROM:-0700
TZOFFSETTO:-0800
TZNAME:PST
DTSTART:20261101T090000
END:STANDARD
BEGIN:DAYLIGHT
TZOFFSETFROM:-0800
TZOFFSETTO:-0700
TZNAME:PDT
DTSTART:20270314T100000
END:DAYLIGHT
BEGIN:STANDARD
TZOFFSETFROM:-0700
TZOFFSETTO:-0800
TZNAME:PST
DTSTART:20271107T090000
END:STANDARD
END:VTIMEZONE
BEGIN:VEVENT
DTSTART;TZID=America/Los_Angeles:20260802T130000
DTEND;TZID=America/Los_Angeles:20260802T160000
DTSTAMP:20260422T172458
CREATED:20260111T170732Z
LAST-MODIFIED:20260111T180011Z
UID:78665-1785675600-1785686400@integrativemedicinecouncil.org
SUMMARY:Treating Knee\, Elbow\, and Shoulder Pain with Chinese Medicine
DESCRIPTION:Click here to sign up for this webinar \nThe majority of most acupuncturists’ practices are orthopedic and neurological. Knee\, elbow\, and shoulder pains are incredibly common. And the shoulder is probably the most complex joint in the body. This course takes an integrative approach to treating these conditions and will expand our diagnostic and treatment acumen. It will look at how to ask questions to solicit diagnostic details\, conduct a thorough acupuncture-centric exam\, develop appropriate and effective treatment protocols\, and properly document all of it. No matter if you are new to treating these conditions or an expert at it\, you will learn something new and interesting.
URL:https://integrativemedicinecouncil.org/event/treating-knee-elbow-and-shoulder-pain-with-chinese-medicine-5/
LOCATION:Online Webinar
CATEGORIES:Live Webinar
ATTACH;FMTTYPE=image/png:https://integrativemedicinecouncil.org/wp-content/uploads/2020/10/Knee-Pain.png
END:VEVENT
BEGIN:VEVENT
DTSTART;TZID=America/Los_Angeles:20260807T130000
DTEND;TZID=America/Los_Angeles:20260807T140000
DTSTAMP:20260422T172458
CREATED:20260111T170743Z
LAST-MODIFIED:20260111T180105Z
UID:78666-1786107600-1786111200@integrativemedicinecouncil.org
SUMMARY:Dr. Greg's Office Hours
DESCRIPTION:Click here to sign up for this webinar \nI have had at various times in my career a desire to just go to an old professor/mentor and discuss an issue\, be it a patient’s problem\, a business question\, or just a philosophical conundrum. In other words\, I would love an intellectual salon to discuss the issues of my practice. That is what I am trying to create here. This is a non-CEU and absolutely free (at least for 2026) discussion of whatever we want as practicing Chinese medical professionals\, whether it is acupuncture\, herbs\, insurance\, business\, biomedicine\, current events affecting our profession\, or just a strange philosophical interchange. It is going to be a fun and fascinating time\, so bring your lunch\, or at least a nice beverage\, and join us!\nIf you have anything you would like to discuss\, please bring it to the webinar or\, if you want me to prepare an even better conversation\, give me a heads up by emailing me at DrGreg@integrativemedicinecouncil.org.
URL:https://integrativemedicinecouncil.org/event/dr-gregs-office-hours-12/
LOCATION:Online Webinar
CATEGORIES:Live Webinar
ATTACH;FMTTYPE=image/jpeg:https://integrativemedicinecouncil.org/wp-content/uploads/2026/01/redd-francisco-5U_28ojjgms-unsplash-scaled-BfHWCi.jpg
END:VEVENT
BEGIN:VEVENT
DTSTART;TZID=America/Los_Angeles:20260809T130000
DTEND;TZID=America/Los_Angeles:20260809T150000
DTSTAMP:20260422T172458
CREATED:20260111T170744Z
LAST-MODIFIED:20260111T180216Z
UID:78667-1786280400-1786287600@integrativemedicinecouncil.org
SUMMARY:Treating Inflammatory Bowel Disease with Chinese Medicine
DESCRIPTION:Click here to sign up for this webinar \nUlcerative colitis and Crohn’s disease can be devastating diseases. Often biomedical treatment involves strong pharmaceuticals with lots of adverse drug reactions. Chinese medicine can help treat and support patients with inflammatory bowel disease (IBD). This course will look at IBD from both biomedical and Chinese points of view\, and discuss Chinese medical diagnostics and therapeutics. Participants will leave with a real-world approach to treating these conditions.
URL:https://integrativemedicinecouncil.org/event/treating-inflammatory-bowel-disease-with-chinese-medicine-5/
LOCATION:Online Webinar
CATEGORIES:Live Webinar
ATTACH;FMTTYPE=image/png:https://integrativemedicinecouncil.org/wp-content/uploads/2026/01/Crohns_Disease-e1561691802781-yHSMGI.png
END:VEVENT
BEGIN:VEVENT
DTSTART;TZID=America/Los_Angeles:20260816T130000
DTEND;TZID=America/Los_Angeles:20260816T160000
DTSTAMP:20260422T172458
CREATED:20260111T170745Z
LAST-MODIFIED:20260111T180254Z
UID:78669-1786885200-1786896000@integrativemedicinecouncil.org
SUMMARY:Treating Diabetes with Chinese Medicine
DESCRIPTION:Click here to sign up for this webinar \nAccording to the America Diabetes Association\, “In 2021\, 38.4 million Americans\, or 11.6% of the population\, had diabetes.” And about one quarter of those are undiagnosed. As Chinese medical practitioners\, we often see these patients in our clinics. This course will look at diabetes\, both type 1 and 2\, from both a biomedical and Chinese medical point of view. We will discuss real world approaches to diagnosing and treating\, or even if we should treat\, these conditions as well as educating our patients about them. Please join us as this is a vital course for any modern practice.
URL:https://integrativemedicinecouncil.org/event/treating-diabetes-with-chinese-medicine-2/
LOCATION:Online Webinar
CATEGORIES:Live Webinar
ATTACH;FMTTYPE=image/jpeg:https://integrativemedicinecouncil.org/wp-content/uploads/2025/01/side-view-diabetic-woman-checking-her-glucose-level-scaled-j3bzPt.tmp_.jpg
END:VEVENT
BEGIN:VEVENT
DTSTART;TZID=America/Los_Angeles:20260821T130000
DTEND;TZID=America/Los_Angeles:20260821T140000
DTSTAMP:20260422T172458
CREATED:20260111T170745Z
LAST-MODIFIED:20260111T180337Z
UID:78670-1787317200-1787320800@integrativemedicinecouncil.org
SUMMARY:Dr. Greg's Office Hours
DESCRIPTION:Click here to sign up for this webinar \nI have had at various times in my career a desire to just go to an old professor/mentor and discuss an issue\, be it a patient’s problem\, a business question\, or just a philosophical conundrum. In other words\, I would love an intellectual salon to discuss the issues of my practice. That is what I am trying to create here. This is a non-CEU and absolutely free (at least for 2026) discussion of whatever we want as practicing Chinese medical professionals\, whether it is acupuncture\, herbs\, insurance\, business\, biomedicine\, current events affecting our profession\, or just a strange philosophical interchange. It is going to be a fun and fascinating time\, so bring your lunch\, or at least a nice beverage\, and join us!\nIf you have anything you would like to discuss\, please bring it to the webinar or\, if you want me to prepare an even better conversation\, give me a heads up by emailing me at DrGreg@integrativemedicinecouncil.org.
URL:https://integrativemedicinecouncil.org/event/dr-gregs-office-hours-13/
LOCATION:Online Webinar
CATEGORIES:Live Webinar
ATTACH;FMTTYPE=image/jpeg:https://integrativemedicinecouncil.org/wp-content/uploads/2026/01/redd-francisco-5U_28ojjgms-unsplash-scaled-BfHWCi.jpg
END:VEVENT
BEGIN:VEVENT
DTSTART;TZID=America/Los_Angeles:20260823T130000
DTEND;TZID=America/Los_Angeles:20260823T160000
DTSTAMP:20260422T172458
CREATED:20260111T170747Z
LAST-MODIFIED:20260111T180418Z
UID:78671-1787490000-1787500800@integrativemedicinecouncil.org
SUMMARY:Sheng Jiang (Fresh Ginger Rhizome)\, Kalahari Cactus (Hoodia gordonii)\, and Rou Gui (Cinnamon Bark)
DESCRIPTION:Click here to sign up for this webinar \nWe are going to be recording three episodes of the Sperb’s Herbs podcast. The first covers the Chinese herb Sheng Jiang (Fresh Ginger Rhizome)\, one of the most commonly used herbs in Chinese medicine and the world. The second is another herb of the world\, Kalahari Cactus (Hoodia gordonii)\, reported to be useful in losing weight and lowering blood pressure. The third episode covers the Chinese herb Rou Gui (Cinnamon Bark) from herbs that warm the interior and expel cold category\, as well as being delicious. Each episode of the podcast will go into great depth about a single herb or formula. Besides covering the basics of herbology including category\, and functions\, we will explore the history\, quality\, science\, pharmacology\, evidence\, and any potential interactions of each herb. And then there is always something a little quirky about an episode. Whether that is a unique story or an interesting perspective\, there will always be something different to learn about these herbs and formula!
URL:https://integrativemedicinecouncil.org/event/sheng-jiang-fresh-ginger-rhizome-kalahari-cactus-hoodia-gordonii-and-rou-gui-cinnamon-bark/
LOCATION:Online Webinar
CATEGORIES:Live Webinar
ATTACH;FMTTYPE=image/jpeg:https://integrativemedicinecouncil.org/wp-content/uploads/2026/01/1024px-Hoodia_gordonii_25971390571.jpg
END:VEVENT
BEGIN:VEVENT
DTSTART;TZID=America/Los_Angeles:20260830T130000
DTEND;TZID=America/Los_Angeles:20260830T150000
DTSTAMP:20260422T172458
CREATED:20260111T170758Z
LAST-MODIFIED:20260111T180629Z
UID:78672-1788094800-1788102000@integrativemedicinecouncil.org
SUMMARY:Treating Carpal Tunnel Syndrome with Chinese Medicine
DESCRIPTION:Click here to sign up for this webinar \nAccording to the National Institute of Health*\, “Carpal tunnel syndrome (CTS) is the most prevalent focal mononeuropathy\, constituting 90% of all neuropathy cases.” Acupuncture can be very useful in treating this condition and is among the least intrusive treatments. This course will look at carpal tunnel syndrome\, from both a biomedical and Chinese medical point of view. We will discuss real world approaches to diagnosing and treating this fairly common condition. And we will examine its misdiagnosis which happens frequently. Please join us as this is a vital course for any modern practice.\n*Sevy\, J. O.\, Sina\, R. E.\, & Varacallo\, M. A. (2023). Carpal Tunnel Syndrome. https://www.ncbi.nlm.nih.gov/books/NBK448179/
URL:https://integrativemedicinecouncil.org/event/treating-carpal-tunnel-syndrome-with-chinese-medicine-2/
LOCATION:Online Webinar
CATEGORIES:Live Webinar
ATTACH;FMTTYPE=image/jpeg:https://integrativemedicinecouncil.org/wp-content/uploads/2025/12/1024px-Carpal_Tunnel_Syndrome.jpg
END:VEVENT
END:VCALENDAR