BEGIN:VCALENDAR
VERSION:2.0
PRODID:-//Integrative Medicine Council - ECPv6.15.20//NONSGML v1.0//EN
CALSCALE:GREGORIAN
METHOD:PUBLISH
X-ORIGINAL-URL:https://integrativemedicinecouncil.org
X-WR-CALDESC:Events for Integrative Medicine Council
REFRESH-INTERVAL;VALUE=DURATION:PT1H
X-Robots-Tag:noindex
X-PUBLISHED-TTL:PT1H
BEGIN:VTIMEZONE
TZID:America/Los_Angeles
BEGIN:DAYLIGHT
TZOFFSETFROM:-0800
TZOFFSETTO:-0700
TZNAME:PDT
DTSTART:20240310T100000
END:DAYLIGHT
BEGIN:STANDARD
TZOFFSETFROM:-0700
TZOFFSETTO:-0800
TZNAME:PST
DTSTART:20241103T090000
END:STANDARD
BEGIN:DAYLIGHT
TZOFFSETFROM:-0800
TZOFFSETTO:-0700
TZNAME:PDT
DTSTART:20250309T100000
END:DAYLIGHT
BEGIN:STANDARD
TZOFFSETFROM:-0700
TZOFFSETTO:-0800
TZNAME:PST
DTSTART:20251102T090000
END:STANDARD
BEGIN:DAYLIGHT
TZOFFSETFROM:-0800
TZOFFSETTO:-0700
TZNAME:PDT
DTSTART:20260308T100000
END:DAYLIGHT
BEGIN:STANDARD
TZOFFSETFROM:-0700
TZOFFSETTO:-0800
TZNAME:PST
DTSTART:20261101T090000
END:STANDARD
END:VTIMEZONE
BEGIN:VEVENT
DTSTART;TZID=America/Los_Angeles:20250928T130000
DTEND;TZID=America/Los_Angeles:20250928T150000
DTSTAMP:20260422T231215
CREATED:20250102T191334Z
LAST-MODIFIED:20250103T193422Z
UID:68459-1759064400-1759071600@integrativemedicinecouncil.org
SUMMARY:Treating High Cholesterol with Chinese Medicine
DESCRIPTION:Click here to sign up for this webinar High cholesterol and triglycerides (hyperlipidemias) have been shown to contribute to heart disease\, the leading cause of death in the United States. Drugs used to treat these conditions are consistently in the top ten drugs sold in the US. Chinese medicine can help these patients in natural and effective ways. This course looks at the biomedical side of these conditions including the pathophysiology\, common (and not so common) lab tests\, and treatments\, mostly pharmaceuticals. Then we will look at how Chinese medicine can help. We will discuss acupuncture\, herbs\, and lifestyle changes and the evidence to support their use. Practitioners will walk away with a clear understanding of these conditions and tools on how to help their patients.
URL:https://integrativemedicinecouncil.org/event/treating-high-cholesterol-with-chinese-medicine-3/
LOCATION:Online Webinar
CATEGORIES:Live Webinar
ATTACH;FMTTYPE=image/png:https://integrativemedicinecouncil.org/wp-content/uploads/2024/12/Blausen_0227_Cholesterol-live.png
END:VEVENT
END:VCALENDAR