BEGIN:VCALENDAR
VERSION:2.0
PRODID:-//Integrative Medicine Council - ECPv6.15.20//NONSGML v1.0//EN
CALSCALE:GREGORIAN
METHOD:PUBLISH
X-ORIGINAL-URL:https://integrativemedicinecouncil.org
X-WR-CALDESC:Events for Integrative Medicine Council
REFRESH-INTERVAL;VALUE=DURATION:PT1H
X-Robots-Tag:noindex
X-PUBLISHED-TTL:PT1H
BEGIN:VTIMEZONE
TZID:America/Los_Angeles
BEGIN:DAYLIGHT
TZOFFSETFROM:-0800
TZOFFSETTO:-0700
TZNAME:PDT
DTSTART:20250309T100000
END:DAYLIGHT
BEGIN:STANDARD
TZOFFSETFROM:-0700
TZOFFSETTO:-0800
TZNAME:PST
DTSTART:20251102T090000
END:STANDARD
BEGIN:DAYLIGHT
TZOFFSETFROM:-0800
TZOFFSETTO:-0700
TZNAME:PDT
DTSTART:20260308T100000
END:DAYLIGHT
BEGIN:STANDARD
TZOFFSETFROM:-0700
TZOFFSETTO:-0800
TZNAME:PST
DTSTART:20261101T090000
END:STANDARD
BEGIN:DAYLIGHT
TZOFFSETFROM:-0800
TZOFFSETTO:-0700
TZNAME:PDT
DTSTART:20270314T100000
END:DAYLIGHT
BEGIN:STANDARD
TZOFFSETFROM:-0700
TZOFFSETTO:-0800
TZNAME:PST
DTSTART:20271107T090000
END:STANDARD
END:VTIMEZONE
BEGIN:VEVENT
DTSTART;TZID=America/Los_Angeles:20260612T130000
DTEND;TZID=America/Los_Angeles:20260612T140000
DTSTAMP:20260422T160149
CREATED:20260111T170701Z
LAST-MODIFIED:20260111T175028Z
UID:78652-1781269200-1781272800@integrativemedicinecouncil.org
SUMMARY:Dr. Greg's Office Hours
DESCRIPTION:Click here to sign up for this webinar \nI have had at various times in my career a desire to just go to an old professor/mentor and discuss an issue\, be it a patient’s problem\, a business question\, or just a philosophical conundrum. In other words\, I would love an intellectual salon to discuss the issues of my practice. That is what I am trying to create here. This is a non-CEU and absolutely free (at least for 2026) discussion of whatever we want as practicing Chinese medical professionals\, whether it is acupuncture\, herbs\, insurance\, business\, biomedicine\, current events affecting our profession\, or just a strange philosophical interchange. It is going to be a fun and fascinating time\, so bring your lunch\, or at least a nice beverage\, and join us!\nIf you have anything you would like to discuss\, please bring it to the webinar or\, if you want me to prepare an even better conversation\, give me a heads up by emailing me at DrGreg@integrativemedicinecouncil.org.
URL:https://integrativemedicinecouncil.org/event/dr-gregs-office-hours-8/
LOCATION:Online Webinar
CATEGORIES:Live Webinar
ATTACH;FMTTYPE=image/jpeg:https://integrativemedicinecouncil.org/wp-content/uploads/2026/01/redd-francisco-5U_28ojjgms-unsplash-scaled-BfHWCi.jpg
END:VEVENT
END:VCALENDAR