BEGIN:VCALENDAR
VERSION:2.0
PRODID:-//Integrative Medicine Council - ECPv6.15.20//NONSGML v1.0//EN
CALSCALE:GREGORIAN
METHOD:PUBLISH
X-ORIGINAL-URL:https://integrativemedicinecouncil.org
X-WR-CALDESC:Events for Integrative Medicine Council
REFRESH-INTERVAL;VALUE=DURATION:PT1H
X-Robots-Tag:noindex
X-PUBLISHED-TTL:PT1H
BEGIN:VTIMEZONE
TZID:America/Los_Angeles
BEGIN:DAYLIGHT
TZOFFSETFROM:-0800
TZOFFSETTO:-0700
TZNAME:PDT
DTSTART:20250309T100000
END:DAYLIGHT
BEGIN:STANDARD
TZOFFSETFROM:-0700
TZOFFSETTO:-0800
TZNAME:PST
DTSTART:20251102T090000
END:STANDARD
BEGIN:DAYLIGHT
TZOFFSETFROM:-0800
TZOFFSETTO:-0700
TZNAME:PDT
DTSTART:20260308T100000
END:DAYLIGHT
BEGIN:STANDARD
TZOFFSETFROM:-0700
TZOFFSETTO:-0800
TZNAME:PST
DTSTART:20261101T090000
END:STANDARD
BEGIN:DAYLIGHT
TZOFFSETFROM:-0800
TZOFFSETTO:-0700
TZNAME:PDT
DTSTART:20270314T100000
END:DAYLIGHT
BEGIN:STANDARD
TZOFFSETFROM:-0700
TZOFFSETTO:-0800
TZNAME:PST
DTSTART:20271107T090000
END:STANDARD
END:VTIMEZONE
BEGIN:VEVENT
DTSTART;TZID=America/Los_Angeles:20260705T130000
DTEND;TZID=America/Los_Angeles:20260705T160000
DTSTAMP:20260422T160150
CREATED:20260111T170715Z
LAST-MODIFIED:20260111T175432Z
UID:78657-1783256400-1783267200@integrativemedicinecouncil.org
SUMMARY:Interpreting Financials for Acupuncturists
DESCRIPTION:Click here to sign up for this webinar \nIt is impossible to have a strong\, successful business without at least a little financial knowledge. This course is designed to provide the financial basics by discussing the three main financial statements: the profit and loss statement\, cash flow statement\, and the balance sheet. But it doesn’t stop there: we also discuss how to interpret financials by examining and developing ratios to empower practice growth and stability. And all of this is done by looking at why these are all so important from a business point of view\, without emphasizing the math…\nThis course is part of an ongoing series of classes in our Mastering Business for Acupuncturists series which looks at business\, practice\, and marketing with an emphasis on helping acupuncturists become as successful as possible. When one of is more successful\, we are all more successful and our profession benefits…
URL:https://integrativemedicinecouncil.org/event/interpreting-financials-for-acupuncturists/
LOCATION:Online Webinar
CATEGORIES:Live Webinar
ATTACH;FMTTYPE=image/jpeg:https://integrativemedicinecouncil.org/wp-content/uploads/2026/01/Financials-for-Acupuncturists-scaled-2yeQFo.jpg
END:VEVENT
END:VCALENDAR