BEGIN:VCALENDAR
VERSION:2.0
PRODID:-//Integrative Medicine Council - ECPv6.15.20//NONSGML v1.0//EN
CALSCALE:GREGORIAN
METHOD:PUBLISH
X-WR-CALNAME:Integrative Medicine Council
X-ORIGINAL-URL:https://integrativemedicinecouncil.org
X-WR-CALDESC:Events for Integrative Medicine Council
REFRESH-INTERVAL;VALUE=DURATION:PT1H
X-Robots-Tag:noindex
X-PUBLISHED-TTL:PT1H
BEGIN:VTIMEZONE
TZID:America/Los_Angeles
BEGIN:DAYLIGHT
TZOFFSETFROM:-0800
TZOFFSETTO:-0700
TZNAME:PDT
DTSTART:20250309T100000
END:DAYLIGHT
BEGIN:STANDARD
TZOFFSETFROM:-0700
TZOFFSETTO:-0800
TZNAME:PST
DTSTART:20251102T090000
END:STANDARD
BEGIN:DAYLIGHT
TZOFFSETFROM:-0800
TZOFFSETTO:-0700
TZNAME:PDT
DTSTART:20260308T100000
END:DAYLIGHT
BEGIN:STANDARD
TZOFFSETFROM:-0700
TZOFFSETTO:-0800
TZNAME:PST
DTSTART:20261101T090000
END:STANDARD
BEGIN:DAYLIGHT
TZOFFSETFROM:-0800
TZOFFSETTO:-0700
TZNAME:PDT
DTSTART:20270314T100000
END:DAYLIGHT
BEGIN:STANDARD
TZOFFSETFROM:-0700
TZOFFSETTO:-0800
TZNAME:PST
DTSTART:20271107T090000
END:STANDARD
END:VTIMEZONE
BEGIN:VEVENT
DTSTART;TZID=America/Los_Angeles:20261018T130000
DTEND;TZID=America/Los_Angeles:20261018T160000
DTSTAMP:20260422T233132
CREATED:20260111T170829Z
LAST-MODIFIED:20260111T203206Z
UID:78686-1792328400-1792339200@integrativemedicinecouncil.org
SUMMARY:Treating Headaches with Chinese Medicine
DESCRIPTION:Click here to sign up for this webinar \n40% of the world’s population have a headache disorder.* And almost everyone experiences the occasional one. Acupuncture and Chinese medicine have long established and varied approaches to treating headaches of all stripes. This course will look at headaches from a biomedical perspective and then explore Chinese medical theories and approaches to treating them. The goal is to create a strong background of the causes and symptoms of different types of headaches and effective tools to diagnose and treat them. Please join us as this is a vital course for any modern practice. \n*https://www.who.int/news-room/fact-sheets/detail/headache-disorders#:~:text=Globally%2C%20headache%20disorders%20affect%20approximately\,in%20females%20compared%20to%20males.
URL:https://integrativemedicinecouncil.org/event/treating-headaches-with-chinese-medicine-2/
LOCATION:Online Webinar
CATEGORIES:Live Webinar
ATTACH;FMTTYPE=image/jpeg:https://integrativemedicinecouncil.org/wp-content/uploads/2026/01/vecteezy_stressed-exhausted-asian-woman-having-strong-tension_14671493-scaled-Cl2jRA.jpg
END:VEVENT
END:VCALENDAR