BEGIN:VCALENDAR
VERSION:2.0
PRODID:-//Integrative Medicine Council - ECPv6.15.20//NONSGML v1.0//EN
CALSCALE:GREGORIAN
METHOD:PUBLISH
X-ORIGINAL-URL:https://integrativemedicinecouncil.org
X-WR-CALDESC:Events for Integrative Medicine Council
REFRESH-INTERVAL;VALUE=DURATION:PT1H
X-Robots-Tag:noindex
X-PUBLISHED-TTL:PT1H
BEGIN:VTIMEZONE
TZID:America/Los_Angeles
BEGIN:DAYLIGHT
TZOFFSETFROM:-0800
TZOFFSETTO:-0700
TZNAME:PDT
DTSTART:20250309T100000
END:DAYLIGHT
BEGIN:STANDARD
TZOFFSETFROM:-0700
TZOFFSETTO:-0800
TZNAME:PST
DTSTART:20251102T090000
END:STANDARD
BEGIN:DAYLIGHT
TZOFFSETFROM:-0800
TZOFFSETTO:-0700
TZNAME:PDT
DTSTART:20260308T100000
END:DAYLIGHT
BEGIN:STANDARD
TZOFFSETFROM:-0700
TZOFFSETTO:-0800
TZNAME:PST
DTSTART:20261101T090000
END:STANDARD
BEGIN:DAYLIGHT
TZOFFSETFROM:-0800
TZOFFSETTO:-0700
TZNAME:PDT
DTSTART:20270314T100000
END:DAYLIGHT
BEGIN:STANDARD
TZOFFSETFROM:-0700
TZOFFSETTO:-0800
TZNAME:PST
DTSTART:20271107T090000
END:STANDARD
END:VTIMEZONE
BEGIN:VEVENT
DTSTART;TZID=America/Los_Angeles:20261025T130000
DTEND;TZID=America/Los_Angeles:20261025T160000
DTSTAMP:20260423T034932
CREATED:20260111T170830Z
LAST-MODIFIED:20260111T203248Z
UID:78687-1792933200-1792944000@integrativemedicinecouncil.org
SUMMARY:Herbs That Act Like Antibiotics and Antivirals
DESCRIPTION:Click here to sign up for this webinar \nFor most of human history\, infections have been life threatening. In fact\, until the last hundred years or so\, they have been the leading cause of death. Chinese medicine\, of course\, has many approaches to treating infections\, mostly centered around using herbs. Modern research has found many of these herbs have antimicrobial properties. This course takes a deep dive into herbs that act like antibiotic and antiviral drugs. We will be exploring how the drugs and herbs work from a bio- and Chinese medical point of view. Can we use these herbs to replace certain drugs? Can understanding these drugs help us understand these herbs at a new level? Please join us as we explore these herbs…
URL:https://integrativemedicinecouncil.org/event/herbs-that-act-like-antibiotics-and-antivirals-2/
LOCATION:Online Webinar
CATEGORIES:Live Webinar
ATTACH;FMTTYPE=image/jpeg:https://integrativemedicinecouncil.org/wp-content/uploads/2026/01/close-up-medical-capsules-with-herbs-table-scaled-CtKK2z.jpg
END:VEVENT
END:VCALENDAR