BEGIN:VCALENDAR
VERSION:2.0
PRODID:-//Integrative Medicine Council - ECPv6.15.20//NONSGML v1.0//EN
CALSCALE:GREGORIAN
METHOD:PUBLISH
X-WR-CALNAME:Integrative Medicine Council
X-ORIGINAL-URL:https://integrativemedicinecouncil.org
X-WR-CALDESC:Events for Integrative Medicine Council
REFRESH-INTERVAL;VALUE=DURATION:PT1H
X-Robots-Tag:noindex
X-PUBLISHED-TTL:PT1H
BEGIN:VTIMEZONE
TZID:America/Los_Angeles
BEGIN:DAYLIGHT
TZOFFSETFROM:-0800
TZOFFSETTO:-0700
TZNAME:PDT
DTSTART:20250309T100000
END:DAYLIGHT
BEGIN:STANDARD
TZOFFSETFROM:-0700
TZOFFSETTO:-0800
TZNAME:PST
DTSTART:20251102T090000
END:STANDARD
BEGIN:DAYLIGHT
TZOFFSETFROM:-0800
TZOFFSETTO:-0700
TZNAME:PDT
DTSTART:20260308T100000
END:DAYLIGHT
BEGIN:STANDARD
TZOFFSETFROM:-0700
TZOFFSETTO:-0800
TZNAME:PST
DTSTART:20261101T090000
END:STANDARD
BEGIN:DAYLIGHT
TZOFFSETFROM:-0800
TZOFFSETTO:-0700
TZNAME:PDT
DTSTART:20270314T100000
END:DAYLIGHT
BEGIN:STANDARD
TZOFFSETFROM:-0700
TZOFFSETTO:-0800
TZNAME:PST
DTSTART:20271107T090000
END:STANDARD
END:VTIMEZONE
BEGIN:VEVENT
DTSTART;TZID=America/Los_Angeles:20261030T130000
DTEND;TZID=America/Los_Angeles:20261030T140000
DTSTAMP:20260422T155748
CREATED:20260111T170831Z
LAST-MODIFIED:20260111T203340Z
UID:78688-1793365200-1793368800@integrativemedicinecouncil.org
SUMMARY:Dr. Greg's Office Hours
DESCRIPTION:Click here to sign up for this webinar \nI have had at various times in my career a desire to just go to an old professor/mentor and discuss an issue\, be it a patient’s problem\, a business question\, or just a philosophical conundrum. In other words\, I would love an intellectual salon to discuss the issues of my practice. That is what I am trying to create here. This is a non-CEU and absolutely free (at least for 2026) discussion of whatever we want as practicing Chinese medical professionals\, whether it is acupuncture\, herbs\, insurance\, business\, biomedicine\, current events affecting our profession\, or just a strange philosophical interchange. It is going to be a fun and fascinating time\, so bring your lunch\, or at least a nice beverage\, and join us!\nIf you have anything you would like to discuss\, please bring it to the webinar or\, if you want me to prepare an even better conversation\, give me a heads up by emailing me at DrGreg@integrativemedicinecouncil.org.
URL:https://integrativemedicinecouncil.org/event/dr-gregs-office-hours-18/
LOCATION:Online Webinar
CATEGORIES:Live Webinar
ATTACH;FMTTYPE=image/jpeg:https://integrativemedicinecouncil.org/wp-content/uploads/2026/01/redd-francisco-5U_28ojjgms-unsplash-scaled-BfHWCi.jpg
END:VEVENT
BEGIN:VEVENT
DTSTART;TZID=America/Los_Angeles:20261101T130000
DTEND;TZID=America/Los_Angeles:20261101T160000
DTSTAMP:20260422T155748
CREATED:20260111T170843Z
LAST-MODIFIED:20260111T203414Z
UID:78689-1793538000-1793548800@integrativemedicinecouncil.org
SUMMARY:Marketing Your Practice: Strategic Position & Target Market
DESCRIPTION:Click here to sign up for this webinar \nWhen I taught practice management in schools\, I always used to say this is the most important class in the school (which few students actually believed until they were out in the real world). And if that was the most important course in the program\, the classes on marketing were the most important classes in the course AND the program. The most important aspect of a successful practice is getting patients in the door. This and our next course will take a close look at marketing. In this first course on marketing\, we will discuss our strategic position\, in other words\, what makes it different\, our target market\, risks of various approaches\, and other more theoretical aspects of marketing. We will make important decisions and lay the foundation for successful practice marketing. Don’t miss this crucial webinar for practice success.\nThis course is part of an ongoing series of classes in our Mastering Business for Acupuncturists series which looks at business\, practice\, and marketing with an emphasis on helping acupuncturists become as successful as possible. When one of is more successful\, we are all more successful and our profession benefits…
URL:https://integrativemedicinecouncil.org/event/marketing-your-practice-strategic-position-target-market/
LOCATION:Online Webinar
CATEGORIES:Live Webinar
ATTACH;FMTTYPE=image/png:https://integrativemedicinecouncil.org/wp-content/uploads/2026/01/target-4694357_1280.png
END:VEVENT
BEGIN:VEVENT
DTSTART;TZID=America/Los_Angeles:20261108T130000
DTEND;TZID=America/Los_Angeles:20261108T150000
DTSTAMP:20260422T155748
CREATED:20260111T170844Z
LAST-MODIFIED:20260111T203514Z
UID:78690-1794142800-1794150000@integrativemedicinecouncil.org
SUMMARY:Treating Bells Palsy with Chinese Medicine
DESCRIPTION:Click here to sign up for this webinar \nAccording to the National Institute of Health*\, about 1 in 60 individuals will get Bells palsy\, and it “is the most common paralysis of the seventh cranial nerve.”* Acupuncture and herbs can be very useful in treating this condition. This course will look at Bells palsy\, from both a biomedical and Chinese medical point of view. We will discuss real world approaches to diagnosing and treating this common condition. There is a lot more information and approaches to this condition in the last decade or two. Please join us as this is a important and practical course for any modern practice. \n*https://www.ncbi.nlm.nih.gov/books/NBK482290/#:~:text=Epidemiology\,if%20provided%20steroids%20and%20antivirals.
URL:https://integrativemedicinecouncil.org/event/treating-bells-palsy-with-chinese-medicine-2/
LOCATION:Online Webinar
CATEGORIES:Live Webinar
ATTACH;FMTTYPE=image/png:https://integrativemedicinecouncil.org/wp-content/uploads/2026/01/Bells_palsy_diagram.png
END:VEVENT
BEGIN:VEVENT
DTSTART;TZID=America/Los_Angeles:20261113T130000
DTEND;TZID=America/Los_Angeles:20261113T140000
DTSTAMP:20260422T155748
CREATED:20260111T170844Z
LAST-MODIFIED:20260111T203559Z
UID:78691-1794574800-1794578400@integrativemedicinecouncil.org
SUMMARY:Dr. Greg's Office Hours
DESCRIPTION:Click here to sign up for this webinar \nI have had at various times in my career a desire to just go to an old professor/mentor and discuss an issue\, be it a patient’s problem\, a business question\, or just a philosophical conundrum. In other words\, I would love an intellectual salon to discuss the issues of my practice. That is what I am trying to create here. This is a non-CEU and absolutely free (at least for 2026) discussion of whatever we want as practicing Chinese medical professionals\, whether it is acupuncture\, herbs\, insurance\, business\, biomedicine\, current events affecting our profession\, or just a strange philosophical interchange. It is going to be a fun and fascinating time\, so bring your lunch\, or at least a nice beverage\, and join us!\nIf you have anything you would like to discuss\, please bring it to the webinar or\, if you want me to prepare an even better conversation\, give me a heads up by emailing me at DrGreg@integrativemedicinecouncil.org.
URL:https://integrativemedicinecouncil.org/event/dr-gregs-office-hours-19/
LOCATION:Online Webinar
CATEGORIES:Live Webinar
ATTACH;FMTTYPE=image/jpeg:https://integrativemedicinecouncil.org/wp-content/uploads/2026/01/redd-francisco-5U_28ojjgms-unsplash-scaled-BfHWCi.jpg
END:VEVENT
BEGIN:VEVENT
DTSTART;TZID=America/Los_Angeles:20261115T130000
DTEND;TZID=America/Los_Angeles:20261115T160000
DTSTAMP:20260422T155748
CREATED:20260111T170845Z
LAST-MODIFIED:20260111T203640Z
UID:78692-1794747600-1794758400@integrativemedicinecouncil.org
SUMMARY:Jiang Huang (Tumeric)\, Run Chang Wan (Moisten the Intestines Pill from Master Shen's Book)\, and Dong Chang Xia Cao (Cordyceps)
DESCRIPTION:Click here to sign up for this webinar \nWe are going to be recording three episodes of the Sperb’s Herbs podcast. The first covers another Chinese single herb\, Jiang Huang (Tumeric)\, a useful Chinese herb in the invigorating blood subcategory that is also an important herb commonly used as an anti-inflammatory. Our second episode covers the Chinese formula Run Chang Wan (Moisten the Intestines Pill from Master Shen’s Book)\, from formulas that moisten the intestines and unblock the bowels subcategory. The third is one of the most expensive herbs used in Chinese medicine: Dong Chang Xia Cao (Cordyceps) from the tonify yang subcategory. Each episode of the podcast will go into great depth about a single herb or formula. Besides covering the basics of herbology including category\, and functions\, we will explore the history\, quality\, science\, pharmacology\, evidence\, and any potential interactions of each herb. And then there is always something a little quirky about an episode. Whether that is a unique story or an interesting perspective\, there will always be something different to learn about these herbs and formula!
URL:https://integrativemedicinecouncil.org/event/jiang-huang-tumeric-run-chang-wan-moisten-the-intestines-pill-from-master-shens-book-and-dong-chang-xia-cao-cordyceps/
LOCATION:Online Webinar
CATEGORIES:Live Webinar
ATTACH;FMTTYPE=image/jpeg:https://integrativemedicinecouncil.org/wp-content/uploads/2026/01/dong-chong-xia-cao2.jpg
END:VEVENT
BEGIN:VEVENT
DTSTART;TZID=America/Los_Angeles:20261122T130000
DTEND;TZID=America/Los_Angeles:20261122T160000
DTSTAMP:20260422T155748
CREATED:20260111T170846Z
LAST-MODIFIED:20260111T203902Z
UID:78693-1795352400-1795363200@integrativemedicinecouncil.org
SUMMARY:Treating Eczema and Psoriasis with Chinese Medicine
DESCRIPTION:Click here to sign up for this webinar \nEczema and psoriasis\, though both quite common\, can be very difficult to treat from both a biomedical and Chinese medical perspective. This course takes a deep dive into these two conditions from both points of view. First\, we will explore the biomedical side of these conditions: what are they\, how are they diagnosed and monitored\, what are the current treatments (including drugs\, light therapy\, etc…) and how effective are they. Then we will look at potential Chinese medical diagnoses and how to treat them using acupuncture and herbs. Are we able to plot a course that combines the two perspectives to make a more effective treatment? Or is Chinese medicine alone enough? Let’s find out!
URL:https://integrativemedicinecouncil.org/event/treating-eczema-and-psoriasis-with-chinese-medicine-3/
LOCATION:Online Webinar
CATEGORIES:Live Webinar
ATTACH;FMTTYPE=image/jpeg:https://integrativemedicinecouncil.org/wp-content/uploads/2026/01/hands-patient-suffering-from-psoriasis-scaled-T2tdvq.jpg
END:VEVENT
BEGIN:VEVENT
DTSTART;TZID=America/Los_Angeles:20261127T130000
DTEND;TZID=America/Los_Angeles:20261127T140000
DTSTAMP:20260422T155748
CREATED:20260111T170858Z
LAST-MODIFIED:20260111T203945Z
UID:78695-1795784400-1795788000@integrativemedicinecouncil.org
SUMMARY:Dr. Greg's Office Hours
DESCRIPTION:Click here to sign up for this webinar \nI have had at various times in my career a desire to just go to an old professor/mentor and discuss an issue\, be it a patient’s problem\, a business question\, or just a philosophical conundrum. In other words\, I would love an intellectual salon to discuss the issues of my practice. That is what I am trying to create here. This is a non-CEU and absolutely free (at least for 2026) discussion of whatever we want as practicing Chinese medical professionals\, whether it is acupuncture\, herbs\, insurance\, business\, biomedicine\, current events affecting our profession\, or just a strange philosophical interchange. It is going to be a fun and fascinating time\, so bring your lunch\, or at least a nice beverage\, and join us!\nIf you have anything you would like to discuss\, please bring it to the webinar or\, if you want me to prepare an even better conversation\, give me a heads up by emailing me at DrGreg@integrativemedicinecouncil.org.
URL:https://integrativemedicinecouncil.org/event/dr-gregs-office-hours-20/
LOCATION:Online Webinar
CATEGORIES:Live Webinar
ATTACH;FMTTYPE=image/jpeg:https://integrativemedicinecouncil.org/wp-content/uploads/2026/01/redd-francisco-5U_28ojjgms-unsplash-scaled-BfHWCi.jpg
END:VEVENT
BEGIN:VEVENT
DTSTART;TZID=America/Los_Angeles:20261129T130000
DTEND;TZID=America/Los_Angeles:20261129T150000
DTSTAMP:20260422T155748
CREATED:20260111T170859Z
LAST-MODIFIED:20260111T204025Z
UID:78696-1795957200-1795964400@integrativemedicinecouncil.org
SUMMARY:Treating Hypertension with Chinese Medicine
DESCRIPTION:Click here to sign up for this webinar \nHypertension is called the silent killer. While there are lots of approaches from lifestyle to lifelong drugs\, Chinese medicine can offer a lot to treating and controlling hypertension without adverse effects. This course will look at the pathophysiology and signs and symptoms of hypertension from both a biomedical and Chinese medical point of view. We will discuss real world approaches to treating it as well as a discussion of the major modalities of our medicine including both acupuncture and herbal interventions. Whether you are an expert or a beginner at treating hypertension\, there will be lots to learn (or relearn) from this course.
URL:https://integrativemedicinecouncil.org/event/treating-hypertension-with-chinese-medicine/
LOCATION:Online Webinar
CATEGORIES:Live Webinar
ATTACH;FMTTYPE=image/jpeg:https://integrativemedicinecouncil.org/wp-content/uploads/2023/03/hypertension-g208c81374_1920.jpg
END:VEVENT
BEGIN:VEVENT
DTSTART;TZID=America/Los_Angeles:20261206T130000
DTEND;TZID=America/Los_Angeles:20261206T150000
DTSTAMP:20260422T155748
CREATED:20260111T170859Z
LAST-MODIFIED:20260111T204108Z
UID:78697-1796562000-1796569200@integrativemedicinecouncil.org
SUMMARY:Treating Fibromyalgia with Chinese Medicine
DESCRIPTION:Click here to sign up for this webinar \nFibromyalgia is a complicated and debilitating condition. Western medicine does not have great treatment strategies. However\, research shows that acupuncture can be helpful. Add herbs into the treatment strategy\, and many patients are able to minimize their symptoms. It is still a difficult condition that changes with age and environmental factors\, but Chinese medicine is probably the best approach to dealing with its vagaries. This course will look at fibromyalgia from both biomedical and Chinese points of view\, and discuss Chinese medical diagnostics and therapeutics. Participants will finish this course with a real-world approach to treating this condition.
URL:https://integrativemedicinecouncil.org/event/treating-fibromyalgia-with-chinese-medicine-2/
LOCATION:Online Webinar
CATEGORIES:Live Webinar
ATTACH;FMTTYPE=image/jpeg:https://integrativemedicinecouncil.org/wp-content/uploads/2026/01/vecteezy_woman-holding-purple-awareness-ribbon-purple-ribbon_74000297-scaled-KBDWdk.jpg
END:VEVENT
BEGIN:VEVENT
DTSTART;TZID=America/Los_Angeles:20261211T130000
DTEND;TZID=America/Los_Angeles:20261211T140000
DTSTAMP:20260422T155748
CREATED:20260111T170900Z
LAST-MODIFIED:20260111T204159Z
UID:78698-1796994000-1796997600@integrativemedicinecouncil.org
SUMMARY:Dr. Greg's Office Hours
DESCRIPTION:Click here to sign up for this webinar \nI have had at various times in my career a desire to just go to an old professor/mentor and discuss an issue\, be it a patient’s problem\, a business question\, or just a philosophical conundrum. In other words\, I would love an intellectual salon to discuss the issues of my practice. That is what I am trying to create here. This is a non-CEU and absolutely free (at least for 2026) discussion of whatever we want as practicing Chinese medical professionals\, whether it is acupuncture\, herbs\, insurance\, business\, biomedicine\, current events affecting our profession\, or just a strange philosophical interchange. It is going to be a fun and fascinating time\, so bring your lunch\, or at least a nice beverage\, and join us!\nIf you have anything you would like to discuss\, please bring it to the webinar or\, if you want me to prepare an even better conversation\, give me a heads up by emailing me at DrGreg@integrativemedicinecouncil.org.
URL:https://integrativemedicinecouncil.org/event/dr-gregs-office-hours-21/
LOCATION:Online Webinar
CATEGORIES:Live Webinar
ATTACH;FMTTYPE=image/jpeg:https://integrativemedicinecouncil.org/wp-content/uploads/2026/01/redd-francisco-5U_28ojjgms-unsplash-scaled-BfHWCi.jpg
END:VEVENT
BEGIN:VEVENT
DTSTART;TZID=America/Los_Angeles:20261213T130000
DTEND;TZID=America/Los_Angeles:20261213T160000
DTSTAMP:20260422T155748
CREATED:20260111T170901Z
LAST-MODIFIED:20260111T204238Z
UID:78699-1797166800-1797177600@integrativemedicinecouncil.org
SUMMARY:Chinese Herbal First Aid Kit (Expanded)
DESCRIPTION:Click here to sign up for this webinar \nThis is a new and extended version of this course! It adds another hour of useful remedies for our patients…\nWe should be empowering our patients to help themselves. What better way to do that than give them info for having Chinese herbal formulas in their medicine cabinet to help with minor medical conditions. In this course\, we will look at relatively easy to find prepared herbal medicines everyone should have in their medical cabinet. We will discuss the conditions they treat\, how to use them\, and any cautions. Conditions covered include\, but are not limited to\, colds\, bleeding\, burns\, digestive complaints\, headaches\, and sinusitis.
URL:https://integrativemedicinecouncil.org/event/chinese-herbal-first-aid-kit-expanded-3/
LOCATION:Online Webinar
CATEGORIES:Live Webinar
ATTACH;FMTTYPE=image/jpeg:https://integrativemedicinecouncil.org/wp-content/uploads/2019/06/first-aid_640.jpg
END:VEVENT
END:VCALENDAR