BEGIN:VCALENDAR
VERSION:2.0
PRODID:-//Integrative Medicine Council - ECPv6.15.20//NONSGML v1.0//EN
CALSCALE:GREGORIAN
METHOD:PUBLISH
X-WR-CALNAME:Integrative Medicine Council
X-ORIGINAL-URL:https://integrativemedicinecouncil.org
X-WR-CALDESC:Events for Integrative Medicine Council
REFRESH-INTERVAL;VALUE=DURATION:PT1H
X-Robots-Tag:noindex
X-PUBLISHED-TTL:PT1H
BEGIN:VTIMEZONE
TZID:America/Los_Angeles
BEGIN:DAYLIGHT
TZOFFSETFROM:-0800
TZOFFSETTO:-0700
TZNAME:PDT
DTSTART:20200308T100000
END:DAYLIGHT
BEGIN:STANDARD
TZOFFSETFROM:-0700
TZOFFSETTO:-0800
TZNAME:PST
DTSTART:20201101T090000
END:STANDARD
BEGIN:DAYLIGHT
TZOFFSETFROM:-0800
TZOFFSETTO:-0700
TZNAME:PDT
DTSTART:20210314T100000
END:DAYLIGHT
BEGIN:STANDARD
TZOFFSETFROM:-0700
TZOFFSETTO:-0800
TZNAME:PST
DTSTART:20211107T090000
END:STANDARD
BEGIN:DAYLIGHT
TZOFFSETFROM:-0800
TZOFFSETTO:-0700
TZNAME:PDT
DTSTART:20220313T100000
END:DAYLIGHT
BEGIN:STANDARD
TZOFFSETFROM:-0700
TZOFFSETTO:-0800
TZNAME:PST
DTSTART:20221106T090000
END:STANDARD
BEGIN:DAYLIGHT
TZOFFSETFROM:-0800
TZOFFSETTO:-0700
TZNAME:PDT
DTSTART:20230312T100000
END:DAYLIGHT
BEGIN:STANDARD
TZOFFSETFROM:-0700
TZOFFSETTO:-0800
TZNAME:PST
DTSTART:20231105T090000
END:STANDARD
END:VTIMEZONE
BEGIN:VEVENT
DTSTART;TZID=America/Los_Angeles:20220716T130000
DTEND;TZID=America/Los_Angeles:20220716T140000
DTSTAMP:20260422T221906
CREATED:20220609T184022Z
LAST-MODIFIED:20220610T170928Z
UID:47310-1657976400-1657980000@integrativemedicinecouncil.org
SUMMARY:Sperb’s Herbs – Calamus
DESCRIPTION:Click here to sign up for this webinar\nThis is an exciting episode of the Sperb’s Herbs podcast. This episode covers the herb Calamus. Each episode covers another traditional herb from somewhere in the world and will go into great depth about it. Besides covering the basics of the herb including its traditional use and functions\, we will explore the history\, quality\, science\, pharmacology\, evidence\, and any potential interactions of each herb. And then there is always something a little quirky about an episode. Whether that is a unique story or an interesting perspective\, there will always be something different to learn about episode’s herb.
URL:https://integrativemedicinecouncil.org/event/sperbs-herbs-calamus/
LOCATION:Online Webinar
CATEGORIES:Live Webinar
ATTACH;FMTTYPE=image/jpeg:https://integrativemedicinecouncil.org/wp-content/uploads/2021/05/643px-Illustration_Acorus_calamus0.jpg
END:VEVENT
BEGIN:VEVENT
DTSTART;TZID=America/Los_Angeles:20220702T130000
DTEND;TZID=America/Los_Angeles:20220702T140000
DTSTAMP:20260422T221906
CREATED:20220609T184017Z
LAST-MODIFIED:20220610T170709Z
UID:47307-1656766800-1656770400@integrativemedicinecouncil.org
SUMMARY:Sperb's Herbs – Shu Di Huang (Prepared Rehmannia)
DESCRIPTION:Click here to sign up for this webinar\nThis is an exciting episode of the Sperb’s Herbs podcast. This episode covers the Chinese herb Shu Di Huang (Prepared Rehmannia). Each episode of the podcast will go into great depth about a single herb or formula. Besides covering the basics of Chinese herbology including category\, and functions\, we will explore the history\, quality\, science\, pharmacology\, evidence\, and any potential interactions of each herb. And then there is always something a little quirky about an episode. Whether that is a unique story or an interesting perspective\, there will always be something different to learn about Shu Di Huang (Prepared Rehmannia).
URL:https://integrativemedicinecouncil.org/event/sperbs-herbs-shu-di-huang-prepared-rehmannia/
LOCATION:Online Webinar
CATEGORIES:Live Webinar
ATTACH;FMTTYPE=image/jpeg:https://integrativemedicinecouncil.org/wp-content/uploads/2022/06/Shu-Di-Huang-1-scaled-5yDRqh.tmp_.jpg
END:VEVENT
BEGIN:VEVENT
DTSTART;TZID=America/Los_Angeles:20220626T130000
DTEND;TZID=America/Los_Angeles:20220626T160000
DTSTAMP:20260422T221906
CREATED:20220609T184016Z
LAST-MODIFIED:20220610T170616Z
UID:47306-1656248400-1656259200@integrativemedicinecouncil.org
SUMMARY:Treating Eczema and Psoriasis with Chinese Medicine
DESCRIPTION:Click here to sign up for this webinar\nEczema and psoriasis\, though both quite common\, can be very difficult to treat from both a biomedical and Chinese medical perspective. This course takes a deep dive into these two conditions from both points of view. First\, we will explore the biomedical side of these conditions: what are they\, how are they diagnosed and monitored\, what are the current treatments (including drugs\, light therapy\, etc…) and how effective are they. Then we will look at potential Chinese medical diagnoses and how to treat them using acupuncture and herbs. Are we able to plot a course that combines the two perspectives to make a more effective treatment? Or is Chinese medicine alone enough? Let’s find out!
URL:https://integrativemedicinecouncil.org/event/treating-eczema-and-psoriasis-with-chinese-medicine/
LOCATION:Online Webinar
CATEGORIES:Live Webinar
ATTACH;FMTTYPE=image/jpeg:https://integrativemedicinecouncil.org/wp-content/uploads/2020/06/Eczema-and-Psoriasis.jpg
END:VEVENT
BEGIN:VEVENT
DTSTART;TZID=America/Los_Angeles:20220619T130000
DTEND;TZID=America/Los_Angeles:20220619T160000
DTSTAMP:20260422T221906
CREATED:20220609T155439Z
LAST-MODIFIED:20220610T170545Z
UID:47188-1655643600-1655654400@integrativemedicinecouncil.org
SUMMARY:Treating Knee\, Elbow\, and Shoulder Pain with Chinese Medicine
DESCRIPTION:Click here to sign up for this webinar\nThe majority of most acupuncturists’ practices are orthopedic and neurological. Knee\, elbow\, and shoulder pains are incredibly common. And the shoulder is probably the most complex joint in the body. This course takes an integrative approach to treating these conditions and will expand our diagnostic and treatment acumen. It will look at how to ask questions to solicit diagnostic details\, conduct a thorough acupuncture-centric exam\, develop appropriate and effective treatment protocols\, and properly document all of it. No matter if you are new to treating these conditions or an expert at it\, you will learn something new and interesting.
URL:https://integrativemedicinecouncil.org/event/treating-knee-elbow-and-shoulder-pain-with-chinese-medicine/
LOCATION:Online Webinar
CATEGORIES:Live Webinar
ATTACH;FMTTYPE=image/png:https://integrativemedicinecouncil.org/wp-content/uploads/2020/10/Knee-Pain.png
END:VEVENT
BEGIN:VEVENT
DTSTART;TZID=America/Los_Angeles:20220618T130000
DTEND;TZID=America/Los_Angeles:20220618T140000
DTSTAMP:20260422T221906
CREATED:20220609T155438Z
LAST-MODIFIED:20220610T170451Z
UID:47187-1655557200-1655560800@integrativemedicinecouncil.org
SUMMARY:Sperb's Herbs - Bai He Gu Jin Tang (Lily Bulb Decoction to Preserve the Metal)
DESCRIPTION:Click here to sign up for this webinar\nThis is an exciting episode of the Sperb’s Herbs podcast. This episode covers the Chinese formula Bai He Gu Jin Tang (Lily Bulb Decoction to Preserve the Metal). Each episode of the podcast will go into great depth about a single herb or formula. Besides covering the basics of Chinese herbology including category\, and functions\, we will explore the history\, quality\, science\, pharmacology\, evidence\, and any potential interactions of each herb. And then there is always something a little quirky about an episode. Whether that is a unique story or an interesting perspective\, there will always be something different to learn about Bai He Gu Jin Tang (Lily Bulb Decoction to Preserve the Metal).
URL:https://integrativemedicinecouncil.org/event/sperbs-herbs-bai-he-gu-jin-tang-lily-bulb-decoction-to-preserve-the-metal/
LOCATION:Online Webinar
CATEGORIES:Live Webinar
ATTACH;FMTTYPE=image/jpeg:https://integrativemedicinecouncil.org/wp-content/uploads/2021/04/Bai-He-Gu-Jin-Tang-scaled.jpg
END:VEVENT
BEGIN:VEVENT
DTSTART;TZID=America/Los_Angeles:20220612T130000
DTEND;TZID=America/Los_Angeles:20220612T160000
DTSTAMP:20260422T221906
CREATED:20220608T030317Z
LAST-MODIFIED:20220610T170333Z
UID:46976-1655038800-1655049600@integrativemedicinecouncil.org
SUMMARY:Supercharging your Practice Marketing!
DESCRIPTION:Click here to sign up for this webinar\nMost of us are trying to increase our practice. And most of us have had courses in school and looked at various marketing information from many sources. This isn’t a course that will give you a bunch of tips and “tricks” to increase your practice. This course will look at a holistic way to market your practice and how to set up systems to make it easy and effective. We will start with pre-marketing questions and how to look at your unique selling proposition (USP) and target market. After that\, we look at pre-clinical marketing and how to get patients in the door\, how to use the internet\, and how to get our new patients excited about coming. Once they are in the clinic\, marketing doesn’t stop and we will set up in-clinic marketing to keep your new patient and market other products and services. Finally\, we will look at post-clinic marketing and how to make sure our patients keep coming back to us and refer others\, not to mention help us get great reviews to boost our internet marketing efforts. By pursuing these marketing efforts in a planned and systematic way\, your practice can’t help but grow!
URL:https://integrativemedicinecouncil.org/event/supercharging-your-practice-marketing/
LOCATION:Online Webinar
CATEGORIES:Live Webinar
ATTACH;FMTTYPE=image/jpeg:https://integrativemedicinecouncil.org/wp-content/uploads/2020/05/online-marketing-1246457_640.jpg
END:VEVENT
BEGIN:VEVENT
DTSTART;TZID=America/Los_Angeles:20211219T130000
DTEND;TZID=America/Los_Angeles:20211219T150000
DTSTAMP:20260422T221906
CREATED:20210819T195341Z
LAST-MODIFIED:20210819T204427Z
UID:33020-1639918800-1639926000@integrativemedicinecouncil.org
SUMMARY:Protecting Yourself Through Proper Charting
DESCRIPTION:This course looks at how to do a proper chart and examines some of the common mistakes made when charting. This course is a must take for anyone who wishes to protect themselves legally as well give the best care to their patients.
URL:https://integrativemedicinecouncil.org/event/protecting-yourself-through-proper-charting-2/
LOCATION:Online Webinar
CATEGORIES:Live Webinar
ATTACH;FMTTYPE=image/png:https://integrativemedicinecouncil.org/wp-content/uploads/2019/06/ehr-1476525_640.png
END:VEVENT
BEGIN:VEVENT
DTSTART;TZID=America/Los_Angeles:20211218T130000
DTEND;TZID=America/Los_Angeles:20211218T140000
DTSTAMP:20260422T221906
CREATED:20210819T195339Z
LAST-MODIFIED:20210819T204724Z
UID:33019-1639832400-1639836000@integrativemedicinecouncil.org
SUMMARY:Sperb's Herbs - Chuan Bei Mu (Fritillaria Bulb)
DESCRIPTION:This episode covers the Chinese herb Chuan Bei Mu (Fritillaria Bulb). Besides covering the basics of Chinese herbology\, we will explore the history\, quality\, science\, pharmacology\, evidence\, and any potential interactions.
URL:https://integrativemedicinecouncil.org/event/sperbs-herbs-chuan-bei-mu-fritillaria-bulb/
LOCATION:Online Webinar
CATEGORIES:Live Webinar
ATTACH;FMTTYPE=image/jpeg:https://integrativemedicinecouncil.org/wp-content/uploads/2021/08/Chuan-Bei-Mu-3-scaled.jpg
END:VEVENT
BEGIN:VEVENT
DTSTART;TZID=America/Los_Angeles:20211212T130000
DTEND;TZID=America/Los_Angeles:20211212T150000
DTSTAMP:20260422T221906
CREATED:20210819T195339Z
LAST-MODIFIED:20210819T204819Z
UID:33018-1639314000-1639321200@integrativemedicinecouncil.org
SUMMARY:Chinese Herbal First Aid Kit
DESCRIPTION:We should be empowering our patients to help themselves. In this course\, we will look at relatively easy to find prepared herbal medicines everyone should have in their medical cabinet.
URL:https://integrativemedicinecouncil.org/event/chinese-herbal-first-aid-kit/
LOCATION:Online Webinar
CATEGORIES:Live Webinar
ATTACH;FMTTYPE=image/jpeg:https://integrativemedicinecouncil.org/wp-content/uploads/2019/06/first-aid_640.jpg
END:VEVENT
BEGIN:VEVENT
DTSTART;TZID=America/Los_Angeles:20211205T130000
DTEND;TZID=America/Los_Angeles:20211205T160000
DTSTAMP:20260422T221906
CREATED:20210819T195337Z
LAST-MODIFIED:20210819T204910Z
UID:33017-1638709200-1638720000@integrativemedicinecouncil.org
SUMMARY:The Five Elements of Acupuncture Medical Ethics
DESCRIPTION:This course will look at basic medical ethics and how they apply to Acupuncture and Oriental Medical practices. It will cover the five basic principles/areas every practitioner should know.
URL:https://integrativemedicinecouncil.org/event/the-five-elements-of-acupuncture-medical-ethics/
LOCATION:Online Webinar
CATEGORIES:Live Webinar
ATTACH;FMTTYPE=image/jpeg:https://integrativemedicinecouncil.org/wp-content/uploads/2019/06/Five-Elements-of-Ethics.jpg
END:VEVENT
BEGIN:VEVENT
DTSTART;TZID=America/Los_Angeles:20211204T130000
DTEND;TZID=America/Los_Angeles:20211204T140000
DTSTAMP:20260422T221906
CREATED:20210819T195329Z
LAST-MODIFIED:20210819T204955Z
UID:33016-1638622800-1638626400@integrativemedicinecouncil.org
SUMMARY:Sperb's Herbs - Triphala
DESCRIPTION:This episode covers the three herb Triphala from the Ayurvedic tradition. Besides covering the basics of herbology\, we will explore the history\, quality\, science\, pharmacology\, evidence\, and any potential interactions of each herb.
URL:https://integrativemedicinecouncil.org/event/sperbs-herbs-triphala/
LOCATION:Online Webinar
CATEGORIES:Live Webinar
ATTACH;FMTTYPE=image/jpeg:https://integrativemedicinecouncil.org/wp-content/uploads/2021/07/Amla_flower.jpg
END:VEVENT
BEGIN:VEVENT
DTSTART;TZID=America/Los_Angeles:20211128T130000
DTEND;TZID=America/Los_Angeles:20211128T150000
DTSTAMP:20260422T221906
CREATED:20210819T195327Z
LAST-MODIFIED:20210819T205114Z
UID:33015-1638104400-1638111600@integrativemedicinecouncil.org
SUMMARY:Chinese Medicine and the Opioid Epidemic
DESCRIPTION:The opioid epidemic is a crisis we haven’t seen before. Chinese medicine can help play a role at many levels in helping this public health failure. This course will examine the epidemic\, look at the drugs involved\, addictions in general and specific to the epidemic. \nImage by Bullenwächter [CC BY-SA 3.0]\, via Wikimedia Commons
URL:https://integrativemedicinecouncil.org/event/chinese-medicine-and-the-opioid-epidemic/
LOCATION:Online Webinar
CATEGORIES:Live Webinar
ATTACH;FMTTYPE=image/jpeg:https://integrativemedicinecouncil.org/wp-content/uploads/2019/06/Opium-Jar.jpg
END:VEVENT
BEGIN:VEVENT
DTSTART;TZID=America/Los_Angeles:20211121T140000
DTEND;TZID=America/Los_Angeles:20211121T150000
DTSTAMP:20260422T221906
CREATED:20210819T195323Z
LAST-MODIFIED:20210819T205229Z
UID:33014-1637503200-1637506800@integrativemedicinecouncil.org
SUMMARY:Protecting Your Patients: Mandatory Reporting
DESCRIPTION:There is an ethical and legal responsibility for healthcare practitioners to report certain things. This course looks at the roles and responsibilities of acupuncturists and how to proceed with a report.
URL:https://integrativemedicinecouncil.org/event/protecting-your-patients-mandatory-reporting/
LOCATION:Online Webinar
CATEGORIES:Live Webinar
ATTACH;FMTTYPE=image/jpeg:https://integrativemedicinecouncil.org/wp-content/uploads/2019/10/teddy-bear-440498_640.jpg
END:VEVENT
BEGIN:VEVENT
DTSTART;TZID=America/Los_Angeles:20211121T130000
DTEND;TZID=America/Los_Angeles:20211121T140000
DTSTAMP:20260422T221906
CREATED:20210819T195321Z
LAST-MODIFIED:20210819T205321Z
UID:33013-1637499600-1637503200@integrativemedicinecouncil.org
SUMMARY:Seven Steps to Avoiding Drug-Herb Interactions
DESCRIPTION:We may not be able to predict all drug-herb interactions\, but we can determine potentials for interactions. This seminar examines an easy way to approach these potential drug-herb interactions using 7 straight-forward steps.
URL:https://integrativemedicinecouncil.org/event/seven-steps-to-avoiding-drug-herb-interactions/
LOCATION:Online Webinar
CATEGORIES:Live Webinar
ATTACH;FMTTYPE=image/jpeg:https://integrativemedicinecouncil.org/wp-content/uploads/2019/10/DHIs.jpg
END:VEVENT
BEGIN:VEVENT
DTSTART;TZID=America/Los_Angeles:20211120T130000
DTEND;TZID=America/Los_Angeles:20211120T140000
DTSTAMP:20260422T221906
CREATED:20210819T195319Z
LAST-MODIFIED:20210819T205356Z
UID:33012-1637413200-1637416800@integrativemedicinecouncil.org
SUMMARY:Sperb's Herbs - Zi Su Geng (Perilla Stem)
DESCRIPTION:This episode covers the Chinese herb Zi Su Geng (Perilla Stem). Besides covering the basics of Chinese herbology\, we will explore the history\, quality\, science\, pharmacology\, evidence\, and any potential interactions. \nPicture Attribution: From User: Dalgial\, CC BY-SA 3.0 <https://creativecommons.org/licenses/by-sa/3.0>\, via Wikimedia Commons
URL:https://integrativemedicinecouncil.org/event/sperbs-herbs-zi-su-geng-perilla-stem/
LOCATION:Online Webinar
CATEGORIES:Live Webinar
ATTACH;FMTTYPE=image/jpeg:https://integrativemedicinecouncil.org/wp-content/uploads/2021/07/Perilla_frutescens_foliage.jpg
END:VEVENT
BEGIN:VEVENT
DTSTART;TZID=America/Los_Angeles:20211114T130000
DTEND;TZID=America/Los_Angeles:20211114T160000
DTSTAMP:20260422T221906
CREATED:20210819T195313Z
LAST-MODIFIED:20210819T205508Z
UID:33011-1636894800-1636905600@integrativemedicinecouncil.org
SUMMARY:Treating Neck and Back Pain with Chinese Medicine
DESCRIPTION:By far the most common conditions most acupuncturists treat are neck and back pain. And most acupuncturists do a really good job at it. This course takes an integrative approach to treating these conditions and will expand our diagnostic and treatment acumen.
URL:https://integrativemedicinecouncil.org/event/treating-neck-and-back-pain-with-chinese-medicine-4/
LOCATION:Online Webinar
CATEGORIES:Live Webinar
ATTACH;FMTTYPE=image/jpeg:https://integrativemedicinecouncil.org/wp-content/uploads/2019/06/Slipped-disc.jpg
END:VEVENT
BEGIN:VEVENT
DTSTART;TZID=America/Los_Angeles:20211106T130000
DTEND;TZID=America/Los_Angeles:20211106T140000
DTSTAMP:20260422T221906
CREATED:20210819T195309Z
LAST-MODIFIED:20210819T205524Z
UID:33010-1636203600-1636207200@integrativemedicinecouncil.org
SUMMARY:Sperb's Herbs - Si Wu Tang (Four Substances Decoction)
DESCRIPTION:This episode covers the Chinese formula Si Wu Tang. Besides covering the basics of the formula\, we will explore the history\, science\, pharmacology\, evidence\, and any potential interactions.
URL:https://integrativemedicinecouncil.org/event/sperbs-herbs-si-wu-tang-four-substances-decoction/
LOCATION:Online Webinar
CATEGORIES:Live Webinar
ATTACH;FMTTYPE=image/jpeg:https://integrativemedicinecouncil.org/wp-content/uploads/2021/07/Si-Wu-Tang-2-scaled.jpg
END:VEVENT
BEGIN:VEVENT
DTSTART;TZID=America/Los_Angeles:20211031T130000
DTEND;TZID=America/Los_Angeles:20211031T150000
DTSTAMP:20260422T221906
CREATED:20210819T195303Z
LAST-MODIFIED:20210819T205625Z
UID:33009-1635685200-1635692400@integrativemedicinecouncil.org
SUMMARY:Why (Not How) Do Herbs Work?
DESCRIPTION:We generally know how herbs work either from Chinese or scientific theory or a combination of both. But why do they work? What in the history of plants\, animals\, and evolution created the benefits of these healthy little bundles?
URL:https://integrativemedicinecouncil.org/event/why-not-how-do-herbs-work/
LOCATION:Online Webinar
CATEGORIES:Live Webinar
ATTACH;FMTTYPE=image/jpeg:https://integrativemedicinecouncil.org/wp-content/uploads/2020/05/nature-3289812_1920.jpg
END:VEVENT
BEGIN:VEVENT
DTSTART;TZID=America/Los_Angeles:20211024T130000
DTEND;TZID=America/Los_Angeles:20211024T150000
DTSTAMP:20260422T221906
CREATED:20210819T195257Z
LAST-MODIFIED:20210819T205653Z
UID:33008-1635080400-1635087600@integrativemedicinecouncil.org
SUMMARY:Protecting Yourself Through Proper Charting
DESCRIPTION:This course looks at how to do a proper chart and examines some of the common mistakes made when charting. This course is a must take for anyone who wishes to protect themselves legally as well give the best care to their patients.
URL:https://integrativemedicinecouncil.org/event/protecting-yourself-through-proper-charting/
LOCATION:Online Webinar
CATEGORIES:Live Webinar
ATTACH;FMTTYPE=image/png:https://integrativemedicinecouncil.org/wp-content/uploads/2019/06/ehr-1476525_640.png
END:VEVENT
BEGIN:VEVENT
DTSTART;TZID=America/Los_Angeles:20211023T130000
DTEND;TZID=America/Los_Angeles:20211023T140000
DTSTAMP:20260422T221906
CREATED:20210819T195252Z
LAST-MODIFIED:20210819T205720Z
UID:33007-1634994000-1634997600@integrativemedicinecouncil.org
SUMMARY:Sperb's Herbs - Huang Lian (Coptis)
DESCRIPTION:This episode covers the Chinese herb Huang Lian (Coptis). Besides covering the basics of Chinese herbology\, we will explore the history\, quality\, science\, pharmacology\, evidence\, and any potential interactions.
URL:https://integrativemedicinecouncil.org/event/sperbs-herbs-huang-lian-coptis/
LOCATION:Online Webinar
CATEGORIES:Live Webinar
ATTACH;FMTTYPE=image/jpeg:https://integrativemedicinecouncil.org/wp-content/uploads/2021/07/huang-lian.jpg
END:VEVENT
BEGIN:VEVENT
DTSTART;TZID=America/Los_Angeles:20211009T130000
DTEND;TZID=America/Los_Angeles:20211009T140000
DTSTAMP:20260422T221906
CREATED:20210819T195118Z
LAST-MODIFIED:20210819T205805Z
UID:33006-1633784400-1633788000@integrativemedicinecouncil.org
SUMMARY:Sperb's Herbs - Cleomearabica
DESCRIPTION:This episode covers the herb Cleomearabica. Besides covering the basics of herbology\, we will explore the history\, quality\, science\, pharmacology\, evidence\, and any potential interactions of each herb. \nPicture Attribution: Gidip\, CC BY 3.0 <https://creativecommons.org/licenses/by/3.0>\, via Wikimedia Commons
URL:https://integrativemedicinecouncil.org/event/sperbs-herbs-cleomearabica/
LOCATION:Online Webinar
CATEGORIES:Live Webinar
ATTACH;FMTTYPE=image/jpeg:https://integrativemedicinecouncil.org/wp-content/uploads/2021/07/Cleome_arabica_1.jpg
END:VEVENT
BEGIN:VEVENT
DTSTART;TZID=America/Los_Angeles:20211003T130000
DTEND;TZID=America/Los_Angeles:20211003T160000
DTSTAMP:20260422T221906
CREATED:20210819T195103Z
LAST-MODIFIED:20210819T205841Z
UID:33005-1633266000-1633276800@integrativemedicinecouncil.org
SUMMARY:Treating Neck and Back Pain with Chinese Medicine
DESCRIPTION:By far the most common conditions most acupuncturists treat are neck and back pain. And most acupuncturists do a really good job at it. This course takes an integrative approach to treating these conditions and will expand our diagnostic and treatment acumen.
URL:https://integrativemedicinecouncil.org/event/treating-neck-and-back-pain-with-chinese-medicine-3/
LOCATION:Online Webinar
CATEGORIES:Live Webinar
ATTACH;FMTTYPE=image/jpeg:https://integrativemedicinecouncil.org/wp-content/uploads/2019/06/Slipped-disc.jpg
END:VEVENT
BEGIN:VEVENT
DTSTART;TZID=America/Los_Angeles:20210926T130000
DTEND;TZID=America/Los_Angeles:20210926T150000
DTSTAMP:20260422T221906
CREATED:20210819T195053Z
LAST-MODIFIED:20210819T205901Z
UID:33004-1632661200-1632668400@integrativemedicinecouncil.org
SUMMARY:Treating Alzheimer’s and other Dementias with Chinese Medicine
DESCRIPTION:While the most common form of dementia\, there are lots of different types other than Alzheimer’s. This course will examine these dementias from both biomedical and Chinese points of view\, and discuss Chinese medical diagnostics and therapeutics
URL:https://integrativemedicinecouncil.org/event/treating-alzheimers-and-other-dementias-with-chinese-medicine/
LOCATION:Online Webinar
CATEGORIES:Live Webinar
ATTACH;FMTTYPE=image/jpeg:https://integrativemedicinecouncil.org/wp-content/uploads/2020/05/Alzheimers-Dementia.jpg
END:VEVENT
BEGIN:VEVENT
DTSTART;TZID=America/Los_Angeles:20210925T130000
DTEND;TZID=America/Los_Angeles:20210925T140000
DTSTAMP:20260422T221906
CREATED:20210819T195045Z
LAST-MODIFIED:20210819T205926Z
UID:33003-1632574800-1632578400@integrativemedicinecouncil.org
SUMMARY:Sperb's Herbs - Gui Zhi (Cinnamon Twig)
DESCRIPTION:This episode covers the Chinese herb Gui Zhi (Cinnamon Twig). Besides covering the basics of Chinese herbology\, we will explore the history\, quality\, science\, pharmacology\, evidence\, and any potential interactions.
URL:https://integrativemedicinecouncil.org/event/sperbs-herbs-gui-zhi-cinnamon-twig/
LOCATION:Online Webinar
CATEGORIES:Live Webinar
ATTACH;FMTTYPE=image/jpeg:https://integrativemedicinecouncil.org/wp-content/uploads/2021/07/Gui-Zhi-1-scaled.jpg
END:VEVENT
BEGIN:VEVENT
DTSTART;TZID=America/Los_Angeles:20210919T130000
DTEND;TZID=America/Los_Angeles:20210919T160000
DTSTAMP:20260422T221906
CREATED:20210819T195034Z
LAST-MODIFIED:20210819T210006Z
UID:33002-1632056400-1632067200@integrativemedicinecouncil.org
SUMMARY:Treating Neck and Back Pain with Chinese Medicine
DESCRIPTION:By far the most common conditions most acupuncturists treat are neck and back pain. And most acupuncturists do a really good job at it. This course takes an integrative approach to treating these conditions and will expand our diagnostic and treatment acumen.
URL:https://integrativemedicinecouncil.org/event/treating-neck-and-back-pain-with-chinese-medicine-2/
LOCATION:Online Webinar
CATEGORIES:Live Webinar
ATTACH;FMTTYPE=image/jpeg:https://integrativemedicinecouncil.org/wp-content/uploads/2019/06/Slipped-disc.jpg
END:VEVENT
BEGIN:VEVENT
DTSTART;TZID=America/Los_Angeles:20210911T130000
DTEND;TZID=America/Los_Angeles:20210911T140000
DTSTAMP:20260422T221906
CREATED:20210819T195018Z
LAST-MODIFIED:20210819T195018Z
UID:33001-1631365200-1631368800@integrativemedicinecouncil.org
SUMMARY:Sperb's Herbs - Nourish the Blood and Qi Formulas
DESCRIPTION:This episode will cover one of the traditional categories of formulas\, Nourish the Blood and Qi. Besides covering the basics\, we will explore the science\, pharmacology\, evidence\, and any potential interactions of the category of formulas.
URL:https://integrativemedicinecouncil.org/event/sperbs-herbs-nourish-the-blood-and-qi-formulas/
LOCATION:Online Webinar
CATEGORIES:Live Webinar
END:VEVENT
BEGIN:VEVENT
DTSTART;TZID=America/Los_Angeles:20210905T130000
DTEND;TZID=America/Los_Angeles:20210905T150000
DTSTAMP:20260422T221906
CREATED:20210819T195008Z
LAST-MODIFIED:20210819T210045Z
UID:33000-1630846800-1630854000@integrativemedicinecouncil.org
SUMMARY:An Evidence Based Approach to Cannabis
DESCRIPTION:Marijuana\, THC\, CBD\, and all their various manifestations (creams\, ointments\, gummies\, other edibles\, etc…) are really popular right now. But what is the truth about its usefulness in patient care? What does research show?
URL:https://integrativemedicinecouncil.org/event/an-evidence-based-approach-to-cannabis/
LOCATION:Online Webinar
CATEGORIES:Live Webinar
ATTACH;FMTTYPE=image/jpeg:https://integrativemedicinecouncil.org/wp-content/uploads/2019/06/marijuana-cannabis-CBD-THC.jpg
END:VEVENT
BEGIN:VEVENT
DTSTART;TZID=America/Los_Angeles:20210829T130000
DTEND;TZID=America/Los_Angeles:20210829T150000
DTSTAMP:20260422T221906
CREATED:20210819T194959Z
LAST-MODIFIED:20210819T210146Z
UID:32999-1630242000-1630249200@integrativemedicinecouncil.org
SUMMARY:Treating Inflammatory Bowel Disease with Chinese Medicine
DESCRIPTION:Chinese medicine can help treat and support patients with inflammatory bowel disease (IBD). This course will look at IBD from both biomedical and Chinese points of view\, and discuss Chinese medical diagnostics and therapeutics.
URL:https://integrativemedicinecouncil.org/event/treating-inflammatory-bowel-disease-with-chinese-medicine/
LOCATION:Online Webinar
CATEGORIES:Live Webinar
ATTACH;FMTTYPE=image/png:https://integrativemedicinecouncil.org/wp-content/uploads/2019/06/Crohns_Disease-e1561691802781.png
END:VEVENT
BEGIN:VEVENT
DTSTART;TZID=America/Los_Angeles:20210828T130000
DTEND;TZID=America/Los_Angeles:20210828T140000
DTSTAMP:20260422T221906
CREATED:20210819T194954Z
LAST-MODIFIED:20210819T210243Z
UID:32998-1630155600-1630159200@integrativemedicinecouncil.org
SUMMARY:Sperb's Herbs - Cool and Release the Exterior Herbs
DESCRIPTION:This episode\, we are exploring another important category of herbs: Herbs that Cool and Release the Exterior. These are incredibly useful especially treating colds\, flus\, and other “external attacks.” \nPicture Credit: Photo by Jeremy Bishop on Unsplash
URL:https://integrativemedicinecouncil.org/event/sperbs-herbs-cool-and-release-the-exterior-herbs/
LOCATION:Online Webinar
CATEGORIES:Live Webinar
ATTACH;FMTTYPE=image/jpeg:https://integrativemedicinecouncil.org/wp-content/uploads/2021/05/josefin-8Qu69Tj23qA-unsplash.jpg
END:VEVENT
BEGIN:VEVENT
DTSTART;TZID=America/Los_Angeles:20210822T130000
DTEND;TZID=America/Los_Angeles:20210822T160000
DTSTAMP:20260422T221906
CREATED:20210819T194947Z
LAST-MODIFIED:20210819T210310Z
UID:32997-1629637200-1629648000@integrativemedicinecouncil.org
SUMMARY:Treating Neck and Back Pain with Chinese Medicine
DESCRIPTION:By far the most common conditions most acupuncturists treat are neck and back pain. And most acupuncturists do a really good job at it. This course takes an integrative approach to treating these conditions and will expand our diagnostic and treatment acumen.
URL:https://integrativemedicinecouncil.org/event/treating-neck-and-back-pain-with-chinese-medicine/
LOCATION:Online Webinar
CATEGORIES:Live Webinar
ATTACH;FMTTYPE=image/jpeg:https://integrativemedicinecouncil.org/wp-content/uploads/2019/06/Slipped-disc.jpg
END:VEVENT
END:VCALENDAR