BEGIN:VCALENDAR
VERSION:2.0
PRODID:-//Integrative Medicine Council - ECPv6.15.20//NONSGML v1.0//EN
CALSCALE:GREGORIAN
METHOD:PUBLISH
X-ORIGINAL-URL:https://integrativemedicinecouncil.org
X-WR-CALDESC:Events for Integrative Medicine Council
REFRESH-INTERVAL;VALUE=DURATION:PT1H
X-Robots-Tag:noindex
X-PUBLISHED-TTL:PT1H
BEGIN:VTIMEZONE
TZID:America/Los_Angeles
BEGIN:DAYLIGHT
TZOFFSETFROM:-0800
TZOFFSETTO:-0700
TZNAME:PDT
DTSTART:20210314T100000
END:DAYLIGHT
BEGIN:STANDARD
TZOFFSETFROM:-0700
TZOFFSETTO:-0800
TZNAME:PST
DTSTART:20211107T090000
END:STANDARD
BEGIN:DAYLIGHT
TZOFFSETFROM:-0800
TZOFFSETTO:-0700
TZNAME:PDT
DTSTART:20220313T100000
END:DAYLIGHT
BEGIN:STANDARD
TZOFFSETFROM:-0700
TZOFFSETTO:-0800
TZNAME:PST
DTSTART:20221106T090000
END:STANDARD
BEGIN:DAYLIGHT
TZOFFSETFROM:-0800
TZOFFSETTO:-0700
TZNAME:PDT
DTSTART:20230312T100000
END:DAYLIGHT
BEGIN:STANDARD
TZOFFSETFROM:-0700
TZOFFSETTO:-0800
TZNAME:PST
DTSTART:20231105T090000
END:STANDARD
END:VTIMEZONE
BEGIN:VEVENT
DTSTART;TZID=America/Los_Angeles:20220702T130000
DTEND;TZID=America/Los_Angeles:20220702T140000
DTSTAMP:20260425T152050
CREATED:20220609T184017Z
LAST-MODIFIED:20220610T170709Z
UID:47307-1656766800-1656770400@integrativemedicinecouncil.org
SUMMARY:Sperb's Herbs – Shu Di Huang (Prepared Rehmannia)
DESCRIPTION:Click here to sign up for this webinar\nThis is an exciting episode of the Sperb’s Herbs podcast. This episode covers the Chinese herb Shu Di Huang (Prepared Rehmannia). Each episode of the podcast will go into great depth about a single herb or formula. Besides covering the basics of Chinese herbology including category\, and functions\, we will explore the history\, quality\, science\, pharmacology\, evidence\, and any potential interactions of each herb. And then there is always something a little quirky about an episode. Whether that is a unique story or an interesting perspective\, there will always be something different to learn about Shu Di Huang (Prepared Rehmannia).
URL:https://integrativemedicinecouncil.org/event/sperbs-herbs-shu-di-huang-prepared-rehmannia/
LOCATION:Online Webinar
CATEGORIES:Live Webinar
ATTACH;FMTTYPE=image/jpeg:https://integrativemedicinecouncil.org/wp-content/uploads/2022/06/Shu-Di-Huang-1-scaled-5yDRqh.tmp_.jpg
END:VEVENT
BEGIN:VEVENT
DTSTART;TZID=America/Los_Angeles:20220716T130000
DTEND;TZID=America/Los_Angeles:20220716T140000
DTSTAMP:20260425T152050
CREATED:20220609T184022Z
LAST-MODIFIED:20220610T170928Z
UID:47310-1657976400-1657980000@integrativemedicinecouncil.org
SUMMARY:Sperb’s Herbs – Calamus
DESCRIPTION:Click here to sign up for this webinar\nThis is an exciting episode of the Sperb’s Herbs podcast. This episode covers the herb Calamus. Each episode covers another traditional herb from somewhere in the world and will go into great depth about it. Besides covering the basics of the herb including its traditional use and functions\, we will explore the history\, quality\, science\, pharmacology\, evidence\, and any potential interactions of each herb. And then there is always something a little quirky about an episode. Whether that is a unique story or an interesting perspective\, there will always be something different to learn about episode’s herb.
URL:https://integrativemedicinecouncil.org/event/sperbs-herbs-calamus/
LOCATION:Online Webinar
CATEGORIES:Live Webinar
ATTACH;FMTTYPE=image/jpeg:https://integrativemedicinecouncil.org/wp-content/uploads/2021/05/643px-Illustration_Acorus_calamus0.jpg
END:VEVENT
BEGIN:VEVENT
DTSTART;TZID=America/Los_Angeles:20220717T130000
DTEND;TZID=America/Los_Angeles:20220717T160000
DTSTAMP:20260425T152050
CREATED:20220609T184028Z
LAST-MODIFIED:20220610T170958Z
UID:47312-1658062800-1658073600@integrativemedicinecouncil.org
SUMMARY:The Five Elements of Acupuncture Medical Ethics
DESCRIPTION:Click here to sign up for this webinar\nThis course will look at basic medical ethics and how they apply to Acupuncture and Oriental Medical practices. It will cover the five basic principles/areas every practitioner should know. It then goes on to explore fundamental medical ethics including looking at the works of Hippocrates and Sun Si Miao and discussing the Tuskegee Syphilis Experiment as well as NCCAOM’s Code of Ethics. And finally\, there will be a discussion of real world ethical issues that practitioners need to deal with in their everyday interactions with patients. The goal of this course is to give a basic theoretical background to medical ethics and then make them relevant to one’s practices.
URL:https://integrativemedicinecouncil.org/event/the-five-elements-of-acupuncture-medical-ethics-2/
LOCATION:Online Webinar
CATEGORIES:Live Webinar
ATTACH;FMTTYPE=image/jpeg:https://integrativemedicinecouncil.org/wp-content/uploads/2019/06/Five-Elements-of-Ethics.jpg
END:VEVENT
BEGIN:VEVENT
DTSTART;TZID=America/Los_Angeles:20220724T130000
DTEND;TZID=America/Los_Angeles:20220724T140000
DTSTAMP:20260425T152050
CREATED:20220609T184031Z
LAST-MODIFIED:20220610T171045Z
UID:47313-1658667600-1658671200@integrativemedicinecouncil.org
SUMMARY:Seven Steps to Avoiding Drug-Herb Interactions
DESCRIPTION:Click here to sign up for this webinar\nWe may not be able to predict all drug-herb interactions\, but we can determine potentials for interactions. This seminar examines an easy way to approach these potential drug-herb interactions using seven straight-forward steps. A discussion of protein binding\, cytochrome P450\, and the therapeutic index\, form the foundation of this understanding. This is a must take seminar to protect your patients and yourself.
URL:https://integrativemedicinecouncil.org/event/seven-steps-to-avoiding-drug-herb-interactions-2/
LOCATION:Online Webinar
CATEGORIES:Live Webinar
ATTACH;FMTTYPE=image/jpeg:https://integrativemedicinecouncil.org/wp-content/uploads/2019/10/DHIs.jpg
END:VEVENT
BEGIN:VEVENT
DTSTART;TZID=America/Los_Angeles:20220724T143000
DTEND;TZID=America/Los_Angeles:20220724T153000
DTSTAMP:20260425T152050
CREATED:20220609T184032Z
LAST-MODIFIED:20220610T171127Z
UID:47314-1658673000-1658676600@integrativemedicinecouncil.org
SUMMARY:Protecting Your Patients: Mandatory Reporting
DESCRIPTION:Click here to sign up for this webinar\nThere is an ethical and legal responsibility for healthcare practitioners to report certain things. While each state may mandate different things\, especially for acupuncturists\, there are several areas covered by mandatory reporting laws including diseases\, child and elder abuse\, and suicide and harm to others. This course looks at the roles and responsibilities of acupuncturists and how to proceed with a report. It will also answer questions such as: Are there any risks to reporting? Can my patients sue me? What if I am wrong? If you are in practice and see any children\, elderly\, or potentially mentally ill\, this course is incredibly important\, not only to protect yourself\, but to protect your patients.
URL:https://integrativemedicinecouncil.org/event/protecting-your-patients-mandatory-reporting-2/
LOCATION:Online Webinar
CATEGORIES:Live Webinar
ATTACH;FMTTYPE=image/jpeg:https://integrativemedicinecouncil.org/wp-content/uploads/2019/10/teddy-bear-440498_640.jpg
END:VEVENT
BEGIN:VEVENT
DTSTART;TZID=America/Los_Angeles:20220730T130000
DTEND;TZID=America/Los_Angeles:20220730T140000
DTSTAMP:20260425T152050
CREATED:20220609T184034Z
LAST-MODIFIED:20220610T170119Z
UID:47315-1659186000-1659189600@integrativemedicinecouncil.org
SUMMARY:Sperb’s Herbs – Nourish the Blood and Qi Formulas
DESCRIPTION:Click here to sign up for this webinar \nEvery other week an exciting new episode of the Sperb’s Herbs podcast is recorded. This episode will cover one of the traditional categories of formulas\, Nourish the Blood and Qi. Besides covering the basics of Chinese herbology including the formulas in the category\, and common functions\, we will explore the science\, pharmacology\, evidence\, and any potential interactions of the category of formulas. And then there is always something a little quirky about an episode. Whether that is a unique story or an interesting perspective\, there will always be something different to learn about.
URL:https://integrativemedicinecouncil.org/event/sperbs-herbs-nourish-the-blood-and-qi-formulas-2/
LOCATION:Online Webinar
CATEGORIES:Live Webinar
ATTACH;FMTTYPE=image/png:https://integrativemedicinecouncil.org/wp-content/uploads/2021/07/—Pngtree—hand-painted-colorful-chinese-medicine-prescription_4641087.png
END:VEVENT
BEGIN:VEVENT
DTSTART;TZID=America/Los_Angeles:20220731T130000
DTEND;TZID=America/Los_Angeles:20220731T160000
DTSTAMP:20260425T152050
CREATED:20220707T183336Z
LAST-MODIFIED:20220707T183410Z
UID:48173-1659272400-1659283200@integrativemedicinecouncil.org
SUMMARY:Treating COVID and Other Viral Infections with Chinese Medicine
DESCRIPTION:Click here to sign up for this webinar\nCOVID has changed our lives. This course looks at how to treat this disease\, through its various phases including preventing\, treating the initial stages\, and any long-haul signs and symptoms using both acupuncture and herbs\, as well as other Chinese modalities. We will explore the currently known science behind this virus as well as more general approaches to viral infections and how we approach them from a Chinese medical point of view. This exploration will look at ancient approaches\, such as in the Shang Han Lun and Web Bing Xue\, as well as current approaches from China. This is a firmly grounded integrative approach from both Western and Chinese understandings with practical approaches for treating your patients.
URL:https://integrativemedicinecouncil.org/event/treating-covid-and-other-viral-infections-with-chinese-medicine/
LOCATION:Online Webinar
ATTACH;FMTTYPE=image/jpeg:https://integrativemedicinecouncil.org/wp-content/uploads/2022/01/coronavirus-gd747fe13f_1920.jpg
END:VEVENT
END:VCALENDAR