BEGIN:VCALENDAR
VERSION:2.0
PRODID:-//Integrative Medicine Council - ECPv6.15.20//NONSGML v1.0//EN
CALSCALE:GREGORIAN
METHOD:PUBLISH
X-ORIGINAL-URL:https://integrativemedicinecouncil.org
X-WR-CALDESC:Events for Integrative Medicine Council
REFRESH-INTERVAL;VALUE=DURATION:PT1H
X-Robots-Tag:noindex
X-PUBLISHED-TTL:PT1H
BEGIN:VTIMEZONE
TZID:America/Los_Angeles
BEGIN:DAYLIGHT
TZOFFSETFROM:-0800
TZOFFSETTO:-0700
TZNAME:PDT
DTSTART:20210314T100000
END:DAYLIGHT
BEGIN:STANDARD
TZOFFSETFROM:-0700
TZOFFSETTO:-0800
TZNAME:PST
DTSTART:20211107T090000
END:STANDARD
BEGIN:DAYLIGHT
TZOFFSETFROM:-0800
TZOFFSETTO:-0700
TZNAME:PDT
DTSTART:20220313T100000
END:DAYLIGHT
BEGIN:STANDARD
TZOFFSETFROM:-0700
TZOFFSETTO:-0800
TZNAME:PST
DTSTART:20221106T090000
END:STANDARD
BEGIN:DAYLIGHT
TZOFFSETFROM:-0800
TZOFFSETTO:-0700
TZNAME:PDT
DTSTART:20230312T100000
END:DAYLIGHT
BEGIN:STANDARD
TZOFFSETFROM:-0700
TZOFFSETTO:-0800
TZNAME:PST
DTSTART:20231105T090000
END:STANDARD
END:VTIMEZONE
BEGIN:VEVENT
DTSTART;TZID=America/Los_Angeles:20220904T130000
DTEND;TZID=America/Los_Angeles:20220904T160000
DTSTAMP:20260425T110608
CREATED:20220803T205348Z
LAST-MODIFIED:20220803T205859Z
UID:48928-1662296400-1662307200@integrativemedicinecouncil.org
SUMMARY:Treating Neck and Back Pain with Chinese Medicine
DESCRIPTION:Click here to sign up for this webinar\nBy far the most common conditions most acupuncturists treat are neck and back pain. And most acupuncturists do a really good job at it. This course takes an integrative approach to treating these conditions and will expand our diagnostic and treatment acumen. It will look at how to ask questions to solicit diagnostic details\, conduct a thorough acupuncture-centric exam\, develop appropriate and effective treatment protocols\, and properly document all of it. No matter if you are new to treating these conditions or an expert at it\, you will learn something new and interesting.
URL:https://integrativemedicinecouncil.org/event/treating-neck-and-back-pain-with-chinese-medicine-5/
LOCATION:Online Webinar
CATEGORIES:Live Webinar
ATTACH;FMTTYPE=image/jpeg:https://integrativemedicinecouncil.org/wp-content/uploads/2019/06/Slipped-disc.jpg
END:VEVENT
BEGIN:VEVENT
DTSTART;TZID=America/Los_Angeles:20220910T130000
DTEND;TZID=America/Los_Angeles:20220910T140000
DTSTAMP:20260425T110608
CREATED:20220803T205350Z
LAST-MODIFIED:20220906T183009Z
UID:48929-1662814800-1662818400@integrativemedicinecouncil.org
SUMMARY:Sperb's Herbs – Aloe Vera
DESCRIPTION:Click here to sign up for this webinar\nThis is an exciting episode of the Sperb’s Herbs podcast. This episode covers the common herb Aloe Vera. Each episode of the podcast will go into great depth about a single herb or formula. Besides covering the basics of herbology including category\, and functions\, we will explore the history\, quality\, science\, pharmacology\, evidence\, and any potential interactions of each herb. And then there is always something a little quirky about an episode. Whether that is a unique story or an interesting perspective\, there will always be something different to learn about Aloe Vera.
URL:https://integrativemedicinecouncil.org/event/sperbs-herbs-aloe-vera/
LOCATION:Online Webinar
CATEGORIES:Live Webinar
ATTACH;FMTTYPE=image/jpeg:https://integrativemedicinecouncil.org/wp-content/uploads/2022/06/aloe-geb1efa7aa_1280.jpg
END:VEVENT
BEGIN:VEVENT
DTSTART;TZID=America/Los_Angeles:20220924T130000
DTEND;TZID=America/Los_Angeles:20220924T140000
DTSTAMP:20260425T110608
CREATED:20220803T205354Z
LAST-MODIFIED:20220906T182958Z
UID:48932-1664024400-1664028000@integrativemedicinecouncil.org
SUMMARY:Sperb's Herbs – Yi Yi Ren
DESCRIPTION:Click here to sign up for this webinar\nThis is an exciting episode of the Sperb’s Herbs podcast. This episode covers the Chinese herb Yi Yi Ren (Chinese Pearl Barley). Each episode of the podcast will go into great depth about a single herb or formula. Besides covering the basics of Chinese herbology including category\, and functions\, we will explore the history\, quality\, science\, pharmacology\, evidence\, and any potential interactions of each herb. And then there is always something a little quirky about an episode. Whether that is a unique story or an interesting perspective\, there will always be something different to learn about Yi Yi Ren (Chinese Pearl Barley).
URL:https://integrativemedicinecouncil.org/event/sperbs-herbs-yi-yi-ren/
LOCATION:Online Webinar
CATEGORIES:Live Webinar
ATTACH;FMTTYPE=image/jpeg:https://integrativemedicinecouncil.org/wp-content/uploads/2022/08/closeup-jobstears-legumes-textured-300x300-aHTSo0.tmp_.jpg
END:VEVENT
END:VCALENDAR