BEGIN:VCALENDAR
VERSION:2.0
PRODID:-//Integrative Medicine Council - ECPv6.15.20//NONSGML v1.0//EN
CALSCALE:GREGORIAN
METHOD:PUBLISH
X-WR-CALNAME:Integrative Medicine Council
X-ORIGINAL-URL:https://integrativemedicinecouncil.org
X-WR-CALDESC:Events for Integrative Medicine Council
REFRESH-INTERVAL;VALUE=DURATION:PT1H
X-Robots-Tag:noindex
X-PUBLISHED-TTL:PT1H
BEGIN:VTIMEZONE
TZID:America/Los_Angeles
BEGIN:DAYLIGHT
TZOFFSETFROM:-0800
TZOFFSETTO:-0700
TZNAME:PDT
DTSTART:20210314T100000
END:DAYLIGHT
BEGIN:STANDARD
TZOFFSETFROM:-0700
TZOFFSETTO:-0800
TZNAME:PST
DTSTART:20211107T090000
END:STANDARD
BEGIN:DAYLIGHT
TZOFFSETFROM:-0800
TZOFFSETTO:-0700
TZNAME:PDT
DTSTART:20220313T100000
END:DAYLIGHT
BEGIN:STANDARD
TZOFFSETFROM:-0700
TZOFFSETTO:-0800
TZNAME:PST
DTSTART:20221106T090000
END:STANDARD
BEGIN:DAYLIGHT
TZOFFSETFROM:-0800
TZOFFSETTO:-0700
TZNAME:PDT
DTSTART:20230312T100000
END:DAYLIGHT
BEGIN:STANDARD
TZOFFSETFROM:-0700
TZOFFSETTO:-0800
TZNAME:PST
DTSTART:20231105T090000
END:STANDARD
END:VTIMEZONE
BEGIN:VEVENT
DTSTART;TZID=America/Los_Angeles:20221203T130000
DTEND;TZID=America/Los_Angeles:20221203T140000
DTSTAMP:20260425T034246
CREATED:20220919T184756Z
LAST-MODIFIED:20220919T185155Z
UID:49842-1670072400-1670076000@integrativemedicinecouncil.org
SUMMARY:Sperb's Herbs - Zao Xin Tu (Furnace Soil)
DESCRIPTION:Click here to sign up for this webinar\nThis is an exciting episode of the Sperb’s Herbs podcast. This episode covers the Chinese herb Zao Xin Tu (Furnace Soil). Each episode of the podcast will go into great depth about a single herb or formula. Besides covering the basics of Chinese herbology including category\, and functions\, we will explore the history\, quality\, science\, pharmacology\, evidence\, and any potential interactions of each herb. And then there is always something a little quirky about an episode. Whether that is a unique story or an interesting perspective\, there will always be something different to learn about Zao Xin Tu (Furnace Soil).
URL:https://integrativemedicinecouncil.org/event/sperbs-herbs-zao-xin-tu-furnace-soil/
LOCATION:Online Webinar
CATEGORIES:Live Webinar
ATTACH;FMTTYPE=image/jpeg:https://integrativemedicinecouncil.org/wp-content/uploads/2022/09/zao-xin-tu.jpg
END:VEVENT
BEGIN:VEVENT
DTSTART;TZID=America/Los_Angeles:20221204T130000
DTEND;TZID=America/Los_Angeles:20221204T140000
DTSTAMP:20260425T034246
CREATED:20220919T184757Z
LAST-MODIFIED:20220919T185120Z
UID:49843-1670158800-1670162400@integrativemedicinecouncil.org
SUMMARY:Seven Steps to Avoiding Drug-Herb Interactions
DESCRIPTION:Click here to sign up for this webinar\nWe may not be able to predict all drug-herb interactions\, but we can determine potentials for interactions. This seminar examines an easy way to approach these potential drug-herb interactions using 7 straight-forward steps. A discussion of protein binding\, cytochrome P450\, and the therapeutic index\, form the foundation of this understanding. This is a must take seminar to protect your patients and yourself.\nThis seminar is based on my book published by Blue Poppy: Integrative Pharmacology\, Combining modern pharmacology and integrative medicine written with Bob Flaws.
URL:https://integrativemedicinecouncil.org/event/seven-steps-to-avoiding-drug-herb-interactions-3/
LOCATION:Online Webinar
CATEGORIES:Live Webinar
ATTACH;FMTTYPE=image/jpeg:https://integrativemedicinecouncil.org/wp-content/uploads/2019/10/DHIs.jpg
END:VEVENT
BEGIN:VEVENT
DTSTART;TZID=America/Los_Angeles:20221204T143000
DTEND;TZID=America/Los_Angeles:20221204T153000
DTSTAMP:20260425T034246
CREATED:20220919T184758Z
LAST-MODIFIED:20220919T185043Z
UID:49844-1670164200-1670167800@integrativemedicinecouncil.org
SUMMARY:Protecting Your Patients: Mandatory Reporting
DESCRIPTION:Click here to sign up for this webinar\nThere is an ethical and legal responsibility for healthcare practitioners to report certain things. While each state may mandate different things\, especially for acupuncturists\, there are several areas covered by mandatory reporting laws including diseases\, child and elder abuse\, and suicide and harm to others. This course looks at the roles and responsibilities of acupuncturists and how to proceed with a report. It will also answer questions such as: Are there any risks to reporting? Can my patients sue me? What if I am wrong? If you are in practice and see any children\, elderly\, or potentially mentally ill\, this course is incredibly important\, not only to protect yourself\, but to protect your patients.
URL:https://integrativemedicinecouncil.org/event/protecting-your-patients-mandatory-reporting-3/
LOCATION:Online Webinar
CATEGORIES:Live Webinar
ATTACH;FMTTYPE=image/jpeg:https://integrativemedicinecouncil.org/wp-content/uploads/2019/10/teddy-bear-440498_640.jpg
END:VEVENT
BEGIN:VEVENT
DTSTART;TZID=America/Los_Angeles:20221217T130000
DTEND;TZID=America/Los_Angeles:20221217T140000
DTSTAMP:20260425T034246
CREATED:20220919T184800Z
LAST-MODIFIED:20220919T185008Z
UID:49845-1671282000-1671285600@integrativemedicinecouncil.org
SUMMARY:Sperb's Herbs - Shilajit
DESCRIPTION:Click here to sign up for this webinar\nThis is an exciting episode of the Sperb’s Herbs podcast. This episode covers the herb Shilajit. Each episode covers another traditional herb from somewhere in the world and will go into great depth about it. Besides covering the basics of the herb including its traditional use and functions\, we will explore the history\, quality\, science\, pharmacology\, evidence\, and any potential interactions of each herb. And then there is always something a little quirky about an episode. Whether that is a unique story or an interesting perspective\, there will always be something different to learn about episode’s herb.
URL:https://integrativemedicinecouncil.org/event/sperbs-herbs-shilajit/
LOCATION:Online Webinar
CATEGORIES:Live Webinar
ATTACH;FMTTYPE=image/jpeg:https://integrativemedicinecouncil.org/wp-content/uploads/2022/09/Shilajit.jpg
END:VEVENT
BEGIN:VEVENT
DTSTART;TZID=America/Los_Angeles:20221218T130000
DTEND;TZID=America/Los_Angeles:20221218T160000
DTSTAMP:20260425T034246
CREATED:20220919T184800Z
LAST-MODIFIED:20220919T184927Z
UID:49846-1671368400-1671379200@integrativemedicinecouncil.org
SUMMARY:Treating Arthritis with Chinese Medicine
DESCRIPTION:Click here to sign up for this webinar\nOne in four American adults are diagnosed with arthritis (https://www.cdc.gov/arthritis/data_statistics/national-statistics.html). And\, as Chinese medical practitioners\, we often see it in the clinic. This course will look at various arthitides\, especially osteo- and rheumatoid\, from both a biomedical and Chinese medical point of view. We will discuss real world approaches to diagnosing and treating these painful conditions as well as educating our patients about them. If you haven’t treated a lot of arthritis patients\, this course will give you the foundations for doing so effectively. If you are experienced at treating these conditions\, this course will give you the current biomedical approaches as well new perspectives on Chinese medical approaches. No matter what your experience\, this is a vital course for treating your patients.
URL:https://integrativemedicinecouncil.org/event/treating-arthritis-with-chinese-medicine/
LOCATION:Online Webinar
CATEGORIES:Live Webinar
ATTACH;FMTTYPE=image/jpeg:https://integrativemedicinecouncil.org/wp-content/uploads/2022/01/Arthritic_hands_in_pain.jpg
END:VEVENT
END:VCALENDAR