BEGIN:VCALENDAR
VERSION:2.0
PRODID:-//Integrative Medicine Council - ECPv6.15.20//NONSGML v1.0//EN
CALSCALE:GREGORIAN
METHOD:PUBLISH
X-WR-CALNAME:Integrative Medicine Council
X-ORIGINAL-URL:https://integrativemedicinecouncil.org
X-WR-CALDESC:Events for Integrative Medicine Council
REFRESH-INTERVAL;VALUE=DURATION:PT1H
X-Robots-Tag:noindex
X-PUBLISHED-TTL:PT1H
BEGIN:VTIMEZONE
TZID:America/Los_Angeles
BEGIN:DAYLIGHT
TZOFFSETFROM:-0800
TZOFFSETTO:-0700
TZNAME:PDT
DTSTART:20240310T100000
END:DAYLIGHT
BEGIN:STANDARD
TZOFFSETFROM:-0700
TZOFFSETTO:-0800
TZNAME:PST
DTSTART:20241103T090000
END:STANDARD
BEGIN:DAYLIGHT
TZOFFSETFROM:-0800
TZOFFSETTO:-0700
TZNAME:PDT
DTSTART:20250309T100000
END:DAYLIGHT
BEGIN:STANDARD
TZOFFSETFROM:-0700
TZOFFSETTO:-0800
TZNAME:PST
DTSTART:20251102T090000
END:STANDARD
BEGIN:DAYLIGHT
TZOFFSETFROM:-0800
TZOFFSETTO:-0700
TZNAME:PDT
DTSTART:20260308T100000
END:DAYLIGHT
BEGIN:STANDARD
TZOFFSETFROM:-0700
TZOFFSETTO:-0800
TZNAME:PST
DTSTART:20261101T090000
END:STANDARD
END:VTIMEZONE
BEGIN:VEVENT
DTSTART;TZID=America/Los_Angeles:20250119T130000
DTEND;TZID=America/Los_Angeles:20250119T150000
DTSTAMP:20260423T071644
CREATED:20250102T191136Z
LAST-MODIFIED:20250102T195625Z
UID:68416-1737291600-1737298800@integrativemedicinecouncil.org
SUMMARY:Sperb's Herbs – Vasaka (Adhatoda vasica) and Zhi Mu (Anemarrhena Rhizome)
DESCRIPTION:Click here to sign up for this webinar We are going to be recording two episodes of the Sperb’s Herbs podcast. The first covers another herb of the world\, Vasaka (Adhatoda vasica)\, another herb from the Ayurvedic traditions. The second episode covers the Chinese herb Zhi Mu (Anemarrhena Rhizome) from the herbs that drain fire category. Each episode of the podcast will go into great depth about a single herb or formula. Besides covering the basics of herbology including category\, and functions\, we will explore the history\, quality\, science\, pharmacology\, evidence\, and any potential interactions of each herb. And then there is always something a little quirky about an episode. Whether that is a unique story or an interesting perspective\, there will always be something different to learn about these herbs and formula!\nConditions covered include\, but are not limited to\, colds\, bleeding\, burns\, digestive complaints\, headaches\, and sinusitis.
URL:https://integrativemedicinecouncil.org/event/sperbs-herbs-vasaka-adhatoda-vasica-and-zhi-mu-anemarrhena-rhizome/
LOCATION:Online Webinar
CATEGORIES:Live Webinar
ATTACH;FMTTYPE=image/jpeg:https://integrativemedicinecouncil.org/wp-content/uploads/2024/12/Zhi-Mu-scaled.jpg
END:VEVENT
BEGIN:VEVENT
DTSTART;TZID=America/Los_Angeles:20250126T130000
DTEND;TZID=America/Los_Angeles:20250126T160000
DTSTAMP:20260423T071644
CREATED:20250102T191138Z
LAST-MODIFIED:20250102T192511Z
UID:68417-1737896400-1737907200@integrativemedicinecouncil.org
SUMMARY:Treating COVID and Other Viral Infections with Chinese Medicine
DESCRIPTION:Click here to sign up for this webinar COVID has changed our lives. This course looks at how to treat this disease\, through its various phases including preventing\, treating the initial stages\, and any long-haul signs and symptoms using both acupuncture and herbs\, as well as other Chinese modalities. We will explore the currently known science behind this virus as well as more general approaches to viral infections and how we approach them from a Chinese medical point of view. This exploration will look at ancient approaches\, such as in the Shang Han Lun and Wen Bing Xue\, as well as current approaches from China. This is a firmly grounded integrative approach from both Western and Chinese understandings with practical approaches for treating your patients.
URL:https://integrativemedicinecouncil.org/event/treating-covid-and-other-viral-infections-with-chinese-medicine-2/
LOCATION:Online Webinar
CATEGORIES:Live Webinar
ATTACH;FMTTYPE=image/png:https://integrativemedicinecouncil.org/wp-content/uploads/2024/12/Coronavirus._SARS-CoV-2.png
END:VEVENT
END:VCALENDAR