BEGIN:VCALENDAR
VERSION:2.0
PRODID:-//Integrative Medicine Council - ECPv6.15.20//NONSGML v1.0//EN
CALSCALE:GREGORIAN
METHOD:PUBLISH
X-WR-CALNAME:Integrative Medicine Council
X-ORIGINAL-URL:https://integrativemedicinecouncil.org
X-WR-CALDESC:Events for Integrative Medicine Council
REFRESH-INTERVAL;VALUE=DURATION:PT1H
X-Robots-Tag:noindex
X-PUBLISHED-TTL:PT1H
BEGIN:VTIMEZONE
TZID:America/Los_Angeles
BEGIN:DAYLIGHT
TZOFFSETFROM:-0800
TZOFFSETTO:-0700
TZNAME:PDT
DTSTART:20240310T100000
END:DAYLIGHT
BEGIN:STANDARD
TZOFFSETFROM:-0700
TZOFFSETTO:-0800
TZNAME:PST
DTSTART:20241103T090000
END:STANDARD
BEGIN:DAYLIGHT
TZOFFSETFROM:-0800
TZOFFSETTO:-0700
TZNAME:PDT
DTSTART:20250309T100000
END:DAYLIGHT
BEGIN:STANDARD
TZOFFSETFROM:-0700
TZOFFSETTO:-0800
TZNAME:PST
DTSTART:20251102T090000
END:STANDARD
BEGIN:DAYLIGHT
TZOFFSETFROM:-0800
TZOFFSETTO:-0700
TZNAME:PDT
DTSTART:20260308T100000
END:DAYLIGHT
BEGIN:STANDARD
TZOFFSETFROM:-0700
TZOFFSETTO:-0800
TZNAME:PST
DTSTART:20261101T090000
END:STANDARD
END:VTIMEZONE
BEGIN:VEVENT
DTSTART;TZID=America/Los_Angeles:20250907T130000
DTEND;TZID=America/Los_Angeles:20250907T150000
DTSTAMP:20260422T185028
CREATED:20250102T191332Z
LAST-MODIFIED:20250103T193141Z
UID:68456-1757250000-1757257200@integrativemedicinecouncil.org
SUMMARY:Desert Quandong (Santalum acuminatum) and Fan Xie Ye (Senna Leaf)
DESCRIPTION:Click here to sign up for this webinar We are going to be recording two episodes of the Sperb’s Herbs podcast. The first covers another herb of the world\, Desert Quandong (Santalum acuminatum)\, useful for pain relief. The second episode covers the Chinese herb Fan Xie Ye (Senna Leaf) from purgatives category. Each episode of the podcast will go into great depth about a single herb or formula. Besides covering the basics of herbology including category\, and functions\, we will explore the history\, quality\, science\, pharmacology\, evidence\, and any potential interactions of each herb. And then there is always something a little quirky about an episode. Whether that is a unique story or an interesting perspective\, there will always be something different to learn about these herbs and formula!
URL:https://integrativemedicinecouncil.org/event/desert-quandong-santalum-acuminatum-and-fan-xie-ye-senna-leaf/
LOCATION:Online Webinar
CATEGORIES:Live Webinar
ATTACH;FMTTYPE=image/jpeg:https://integrativemedicinecouncil.org/wp-content/uploads/2024/12/1024px-Santalum_acuminatum_fruit1.jpg
END:VEVENT
BEGIN:VEVENT
DTSTART;TZID=America/Los_Angeles:20250914T130000
DTEND;TZID=America/Los_Angeles:20250914T160000
DTSTAMP:20260422T185028
CREATED:20250102T191332Z
LAST-MODIFIED:20250103T193234Z
UID:68457-1757854800-1757865600@integrativemedicinecouncil.org
SUMMARY:Treating Knee\, Elbow\, and Shoulder Pain with Chinese Medicine
DESCRIPTION:Click here to sign up for this webinar The majority of most acupuncturists’ practices are orthopedic and neurological. Knee\, elbow\, and shoulder pains are incredibly common. And the shoulder is probably the most complex joint in the body. This course takes an integrative approach to treating these conditions and will expand our diagnostic and treatment acumen. It will look at how to ask questions to solicit diagnostic details\, conduct a thorough acupuncture-centric exam\, develop appropriate and effective treatment protocols\, and properly document all of it. No matter if you are new to treating these conditions or an expert at it\, you will learn something new and interesting.
URL:https://integrativemedicinecouncil.org/event/treating-knee-elbow-and-shoulder-pain-with-chinese-medicine-3/
LOCATION:Online Webinar
CATEGORIES:Live Webinar
ATTACH;FMTTYPE=image/png:https://integrativemedicinecouncil.org/wp-content/uploads/2024/12/Knee-Pain.png
END:VEVENT
BEGIN:VEVENT
DTSTART;TZID=America/Los_Angeles:20250921T130000
DTEND;TZID=America/Los_Angeles:20250921T150000
DTSTAMP:20260422T185028
CREATED:20250102T191333Z
LAST-MODIFIED:20250103T193330Z
UID:68458-1758459600-1758466800@integrativemedicinecouncil.org
SUMMARY:Treating Thyroid Conditions with Chinese Medicine
DESCRIPTION:Click here to sign up for this webinar More than 12 percent of the U.S. population will develop a thyroid condition during their lifetime and an estimated 20 million Americans have some form of thyroid disease.* That is a lot of people who need our help. Chinese medicine can offer a lot to treating and supporting thyroid conditions without adverse effects. This course will look at the pathophysiology and signs and symptoms of thyroid conditions from both a biomedical and Chinese medical point of view. We will discuss real world approaches to treating it as well as a discussion of the major modalities of our medicine including both acupuncture and herbal interventions. Whether you are an expert or a beginner at treating thyroid conditions\, there will be lots to learn (or relearn) from this course.\n*https://www.thyroid.org/media-main/press-room/#:~:text=Prevalence%20and%20Impact%20of%20Thyroid\,are%20unaware%20of%20their%20condition.
URL:https://integrativemedicinecouncil.org/event/treating-thyroid-conditions-with-chinese-medicine/
LOCATION:Online Webinar
CATEGORIES:Live Webinar
ATTACH;FMTTYPE=image/png:https://integrativemedicinecouncil.org/wp-content/uploads/2024/12/Thyroid_normal.png
END:VEVENT
BEGIN:VEVENT
DTSTART;TZID=America/Los_Angeles:20250928T130000
DTEND;TZID=America/Los_Angeles:20250928T150000
DTSTAMP:20260422T185028
CREATED:20250102T191334Z
LAST-MODIFIED:20250103T193422Z
UID:68459-1759064400-1759071600@integrativemedicinecouncil.org
SUMMARY:Treating High Cholesterol with Chinese Medicine
DESCRIPTION:Click here to sign up for this webinar High cholesterol and triglycerides (hyperlipidemias) have been shown to contribute to heart disease\, the leading cause of death in the United States. Drugs used to treat these conditions are consistently in the top ten drugs sold in the US. Chinese medicine can help these patients in natural and effective ways. This course looks at the biomedical side of these conditions including the pathophysiology\, common (and not so common) lab tests\, and treatments\, mostly pharmaceuticals. Then we will look at how Chinese medicine can help. We will discuss acupuncture\, herbs\, and lifestyle changes and the evidence to support their use. Practitioners will walk away with a clear understanding of these conditions and tools on how to help their patients.
URL:https://integrativemedicinecouncil.org/event/treating-high-cholesterol-with-chinese-medicine-3/
LOCATION:Online Webinar
CATEGORIES:Live Webinar
ATTACH;FMTTYPE=image/png:https://integrativemedicinecouncil.org/wp-content/uploads/2024/12/Blausen_0227_Cholesterol-live.png
END:VEVENT
END:VCALENDAR