BEGIN:VCALENDAR
VERSION:2.0
PRODID:-//Integrative Medicine Council - ECPv6.15.20//NONSGML v1.0//EN
CALSCALE:GREGORIAN
METHOD:PUBLISH
X-ORIGINAL-URL:https://integrativemedicinecouncil.org
X-WR-CALDESC:Events for Integrative Medicine Council
REFRESH-INTERVAL;VALUE=DURATION:PT1H
X-Robots-Tag:noindex
X-PUBLISHED-TTL:PT1H
BEGIN:VTIMEZONE
TZID:America/Los_Angeles
BEGIN:DAYLIGHT
TZOFFSETFROM:-0800
TZOFFSETTO:-0700
TZNAME:PDT
DTSTART:20250309T100000
END:DAYLIGHT
BEGIN:STANDARD
TZOFFSETFROM:-0700
TZOFFSETTO:-0800
TZNAME:PST
DTSTART:20251102T090000
END:STANDARD
BEGIN:DAYLIGHT
TZOFFSETFROM:-0800
TZOFFSETTO:-0700
TZNAME:PDT
DTSTART:20260308T100000
END:DAYLIGHT
BEGIN:STANDARD
TZOFFSETFROM:-0700
TZOFFSETTO:-0800
TZNAME:PST
DTSTART:20261101T090000
END:STANDARD
BEGIN:DAYLIGHT
TZOFFSETFROM:-0800
TZOFFSETTO:-0700
TZNAME:PDT
DTSTART:20270314T100000
END:DAYLIGHT
BEGIN:STANDARD
TZOFFSETFROM:-0700
TZOFFSETTO:-0800
TZNAME:PST
DTSTART:20271107T090000
END:STANDARD
END:VTIMEZONE
BEGIN:VEVENT
DTSTART;TZID=America/Los_Angeles:20260201T130000
DTEND;TZID=America/Los_Angeles:20260201T140000
DTSTAMP:20260422T111700
CREATED:20260111T170550Z
LAST-MODIFIED:20260111T173002Z
UID:78618-1769950800-1769954400@integrativemedicinecouncil.org
SUMMARY:Should you accept insurance?
DESCRIPTION:Click here to sign up for this webinar \nWhether you are new to practice or have been in practice for quite a while\, there is usually one question that pops up: should I accept insurance? It seems like more and more insurance plans are now paying for acupuncture. But\, do they pay fairly? Is it worth the time\, effort\, and change\, if you have them\, to current procedures? In other words\, what are the pros and cons to accepting insurance? This course is a quick\, hopefully objective\, overview of these pros and cons. And ultimately\, it should give you some idea how to answer the “should I accept insurance?” question for yourself…\nThis course is part of an ongoing series of classes in our Mastering Business for Acupuncturists series which looks at business\, practice\, and marketing with an emphasis on helping acupuncturists become as successful as possible. When one of is more successful\, we are all more successful and our profession benefits…
URL:https://integrativemedicinecouncil.org/event/should-you-accept-insurance/
LOCATION:Online Webinar
CATEGORIES:Live Webinar
ATTACH;FMTTYPE=image/jpeg:https://integrativemedicinecouncil.org/wp-content/uploads/2026/01/marek-studzinski-LSCuDR0kcYo-unsplash-scaled-Q9WrpT.jpg
END:VEVENT
BEGIN:VEVENT
DTSTART;TZID=America/Los_Angeles:20260201T140000
DTEND;TZID=America/Los_Angeles:20260201T160000
DTSTAMP:20260422T111700
CREATED:20260111T170551Z
LAST-MODIFIED:20260111T172859Z
UID:78620-1769954400-1769961600@integrativemedicinecouncil.org
SUMMARY:Playing the Game: Accepting Insurance as an Acupuncturist
DESCRIPTION:Click here to sign up for this webinar \nAccepting and billing insurance can be like a game. This course explains the playing field and rules of this game. We will discuss what an acupuncturist needs to do before seeing insurance patients\, during the patient visit\, and after the patient leaves. In other words\, it will examine all the stages\, equipment\, and\, most importantly\, systems necessary to successfully accept insurance and increase income\, all while minimizing the risks. This is a must take course for anyone who wants to promote our medicine to more patients while increasing revenues.\nThis course is based on the book Playing the Game\, A Step-by-step Approach to Accepting Insurance as an Acupuncturist by Dr. Greg Sperber (the course teacher) and Tiffany Andersen-Hefner. It includes many necessary forms for accepting insurance and creating time saving and effective systems.\nThis course is also part of an ongoing series of classes in our Mastering Business for Acupuncturists series which looks at business\, practice\, and marketing with an emphasis on helping acupuncturists become as successful as possible. When one of is more successful\, we are all more successful and our profession benefits…
URL:https://integrativemedicinecouncil.org/event/playing-the-game-accepting-insurance-as-an-acupuncturist/
LOCATION:Online Webinar
CATEGORIES:Live Webinar
ATTACH;FMTTYPE=image/jpeg:https://integrativemedicinecouncil.org/wp-content/uploads/2025/12/Playing-the-Game.jpg
END:VEVENT
BEGIN:VEVENT
DTSTART;TZID=America/Los_Angeles:20260208T130000
DTEND;TZID=America/Los_Angeles:20260208T150000
DTSTAMP:20260422T111700
CREATED:20260111T170552Z
LAST-MODIFIED:20260111T173049Z
UID:78621-1770555600-1770562800@integrativemedicinecouncil.org
SUMMARY:Dermatologic Drugs and Chinese Medicine
DESCRIPTION:Click here to sign up for this webinar \nDrugs used to treat the skin are very commonly prescribed. This seminar explores this class of drugs including those used to treat acne\, bacterial infections\, rosacea\, psoriasis\, alopecia\, and pigmentation disorders. Join us as we look at the uses\, mechanisms of action\, cautions\, and potential interactions as well as the potential Chinese medical actions of these agents.
URL:https://integrativemedicinecouncil.org/event/dermatologic-drugs-and-chinese-medicine/
LOCATION:Online Webinar
CATEGORIES:Live Webinar
ATTACH;FMTTYPE=image/jpeg:https://integrativemedicinecouncil.org/wp-content/uploads/2025/12/Drugs-on-Arm.jpg
END:VEVENT
BEGIN:VEVENT
DTSTART;TZID=America/Los_Angeles:20260215T130000
DTEND;TZID=America/Los_Angeles:20260215T150000
DTSTAMP:20260422T111700
CREATED:20260111T170557Z
LAST-MODIFIED:20260111T173138Z
UID:78622-1771160400-1771167600@integrativemedicinecouncil.org
SUMMARY:Treating Alzheimer’s and other Dementias with Chinese Medicine
DESCRIPTION:Click here to sign up for this webinar \n5.5 million Americans have Alzheimer’s disease. Currently\, considered the 6th most common cause of death in the United States\, but according to the National Institute of Health\, it should be ranked third (https://www.nia.nih.gov/health/alzheimers-disease-fact-sheet). While the most common form of dementia\, there are lots of different types other than Alzheimer’s. This course will examine these dementias from both biomedical and Chinese points of view\, and discuss Chinese medical diagnostics and therapeutics. Often biomedical treatment involves pharmaceuticals with adverse drug reactions. Chinese medicine can help treat and support patients with dementia. Participants will leave with a real-world approach to treating these conditions.
URL:https://integrativemedicinecouncil.org/event/treating-alzheimers-and-other-dementias-with-chinese-medicine-3/
LOCATION:Online Webinar
CATEGORIES:Live Webinar
ATTACH;FMTTYPE=image/jpeg:https://integrativemedicinecouncil.org/wp-content/uploads/2024/12/Alzheimers-Dementia.jpg
END:VEVENT
BEGIN:VEVENT
DTSTART;TZID=America/Los_Angeles:20260222T130000
DTEND;TZID=America/Los_Angeles:20260222T160000
DTSTAMP:20260422T111700
CREATED:20260111T170558Z
LAST-MODIFIED:20260111T173232Z
UID:78623-1771765200-1771776000@integrativemedicinecouncil.org
SUMMARY:Treating Asthma with Chinese Medicine
DESCRIPTION:Click here to sign up for this webinar \nDid you know 5.8% of children and 8.4% of adults have asthma in the United States? That is over 25 million people! (https://www.cdc.gov/asthma/most_recent_national_asthma_data.htm) Have you ever heard of “the rule of thirds” or what are the five most common triggers for asthma? How do these triggers help us help our patients? As Chinese medical practitioners\, we see a lot of asthma patients\, whether it is a reason for coming to us or not. And we can help them! This course will look at the pathology and various signs and symptoms of asthma from both a biomedical and Chinese medical point of view. We will discuss real world approaches to diagnosing and treating this condition and will include a discussion of the major modalities of our medicine including both acupuncture and herbal interventions. Whether you are an expert or a beginner at treating asthma\, there will be lots to learn (or relearn) from this course.
URL:https://integrativemedicinecouncil.org/event/treating-asthma-with-chinese-medicine/
LOCATION:Online Webinar
CATEGORIES:Live Webinar
ATTACH;FMTTYPE=image/jpeg:https://integrativemedicinecouncil.org/wp-content/uploads/2023/03/closeup-portrait-young-man-sick-guy-student-worker-patient-with-allergy-cold-blowing-his-nose-kle.jpg
END:VEVENT
END:VCALENDAR